BEGIN:VCALENDAR
VERSION:2.0
PRODID:-//wp-events-plugin.com//7.2.3.1//EN
TZID:America/Detroit
X-WR-TIMEZONE:America/Detroit
BEGIN:VEVENT
UID:10225@cranbrookartmuseum.org
DTSTART:20190921T100000Z
DTEND:20190921T160000Z
DTSTAMP:20251114T081152Z
URL:https://cranbrookartmuseum.org/events/2019-detroit-month-of-design-you
 th-day/
SUMMARY:2019 Detroit Month of Design: Youth Day
DESCRIPTION:Join Detroit’s next generation of design stars for an afterno
 on of creativity and exploration. Bring your families and enjoy the Michig
 an Science Center with design focused workshops geared towards kids ages 5
 -14. Don’t miss out on a chance to make\, invent and discover together a
 t this event. We will be featuring 15 design workshops that will expose yo
 uth to creative challenges and encourage imagination.\n\nReserve your spot
  through the Michigan Science Center. First 600 tickets are free.
ATTACH;FMTTYPE=image/jpeg:https://cranbrookartmuseum.org/wp-content/upload
 s/2019/09/YouthDay_squaregraphic.png
CATEGORIES:Events,Family
LOCATION:Michigan Science Center\, 5020 John R St.\, Detroit\, MI\, 48202\,
  United States
X-APPLE-STRUCTURED-LOCATION;VALUE=URI;X-ADDRESS=5020 John R St.\, Detroit\,
  MI\, 48202\, United States;X-APPLE-RADIUS=100;X-TITLE=Michigan Science Ce
 nter:geo:0,0
END:VEVENT
END:VCALENDAR