BEGIN:VCALENDAR
VERSION:2.0
PRODID:-//wp-events-plugin.com//7.2.3.1//EN
TZID:America/Detroit
X-WR-TIMEZONE:America/Detroit
BEGIN:VEVENT
UID:11794@cranbrookartmuseum.org
DTSTART;TZID=America/Detroit:20260604T173000
DTEND;TZID=America/Detroit:20260604T193000
DTSTAMP:20260305T170508Z
URL:https://cranbrookartmuseum.org/events/adult-artmaking-workshop-basket-
 weaving-basics/
SUMMARY:Adult ArtMaking Workshop: Basket Weaving Basics
DESCRIPTION:Join us for artist-led workshops on select Thursday evenings an
 d Saturday mornings. Each two-hour workshop will feature a different artma
 king theme\, drawing inspiration from artwork in our collection. All level
 s of artistic experience are welcome as participants are encouraged to exp
 eriment with new materials and creative techniques.  \n\nSelect Thursday
 s from 5:30–7:30pm\; select Saturdays from 10:30am-12:30pm. $25 per part
 icipant\, intended for ages 16 and up. Pre-registration is required throug
 h our website. All materials are provided.\n\n&nbsp\;\n\nUpcoming Adult Ar
 tMaking Workshops:\n\nJune 4\, 6: Basket Weaving Baskets\nExplore guided b
 asket weaving techniques to create your own unique woven basket inspired b
 y incredible weavers\, including the work of Dee Clements\, in Cranbrook A
 rt Museum’s collection.\n\nJuly 9\, 11: Printmaking – Gel Plate Monoty
 pes\nLayer textures and colors onto gel plates to create monoprints inspir
 ed by the work of graphic designer Katherine McCoy.\n\nAugust 20\, 22: Poe
 tic Pastels\nInspired by Joan Mitchell’s abstract artworks in collaborat
 ion with poems\, combine poignant poetry with visual expressions in pastel
 s.
ATTACH;FMTTYPE=image/jpeg:https://cranbrookartmuseum.org/wp-content/upload
 s/2026/03/IG-Resize.jpg
CATEGORIES:Education,Workshops
LOCATION:Cranbrook Art Museum\, 39221 Woodward Ave\, Box 801\, Bloomfield H
 ills\, MI\, 48303\, United States
GEO:42.5727665;-83.25051710000002
X-APPLE-STRUCTURED-LOCATION;VALUE=URI;X-ADDRESS=39221 Woodward Ave\, Box 80
 1\, Bloomfield Hills\, MI\, 48303\, United States;X-APPLE-RADIUS=100;X-TIT
 LE=Cranbrook Art Museum:geo:42.5727665,-83.25051710000002
END:VEVENT
BEGIN:VTIMEZONE
TZID:America/Detroit
X-LIC-LOCATION:America/Detroit
BEGIN:DAYLIGHT
DTSTART:20260308T030000
TZOFFSETFROM:-0500
TZOFFSETTO:-0400
TZNAME:EDT
END:DAYLIGHT
END:VTIMEZONE
END:VCALENDAR