BEGIN:VCALENDAR
VERSION:2.0
PRODID:-//wp-events-plugin.com//7.2.3.1//EN
TZID:America/Detroit
X-WR-TIMEZONE:America/Detroit
BEGIN:VEVENT
UID:10079@cranbrookartmuseum.org
DTSTART:20190427T220000Z
DTEND:20190428T000000Z
DTSTAMP:20251118T110058Z
URL:https://cranbrookartmuseum.org/events/afterstudio-party/
SUMMARY:(After)STUDIO Party
DESCRIPTION:April 27\, 2019  10pm-12am\nJoin us after STUDIO for our After
  Party.\nDance to the DJ\, Cash Bar and light Snacks.\nFeaturing DJ CAPTN2
 0.\n\nTicket sales support scholarships for Cranbrook Academy of Art stude
 nts and programming at Cranbrook Art Museum.\nTickets: $20 in advance/$25 
 at the door\n\nThis event is free for Cranbrook Academy of Art students.
ATTACH;FMTTYPE=image/jpeg:https://cranbrookartmuseum.org/wp-content/upload
 s/2018/02/AFTERSTUDIO_2019_poster.png
CATEGORIES:Events
LOCATION:Cranbrook Art Museum\, 39221 Woodward Ave\, Box 801\, Bloomfield H
 ills\, MI\, 48303\, United States
GEO:42.5727665;-83.25051710000002
X-APPLE-STRUCTURED-LOCATION;VALUE=URI;X-ADDRESS=39221 Woodward Ave\, Box 80
 1\, Bloomfield Hills\, MI\, 48303\, United States;X-APPLE-RADIUS=100;X-TIT
 LE=Cranbrook Art Museum:geo:42.5727665,-83.25051710000002
END:VEVENT
END:VCALENDAR