BEGIN:VCALENDAR
VERSION:2.0
PRODID:-//wp-events-plugin.com//7.2.3.1//EN
TZID:America/Detroit
X-WR-TIMEZONE:America/Detroit
BEGIN:VEVENT
UID:8664@cranbrookartmuseum.org
DTSTART:20170918T160000Z
DTEND:20170918T170000Z
DTSTAMP:20251118T110305Z
URL:https://cranbrookartmuseum.org/events/air-presentations-ceren-bingol-a
 rchitecture-mark-newport-fiber/
SUMMARY:AIR Presentations: Ceren Bingol (Architecture) + Mark Newport (Fibe
 r)
DESCRIPTION:\n\n&nbsp\;
ATTACH;FMTTYPE=image/jpeg:https://cranbrookartmuseum.org/wp-content/upload
 s/2017/09/ceren-mark-FI-2.png
CATEGORIES:Lectures + Talks
LOCATION:Cranbrook Art Museum deSalle Auditorium\, 39221 Woodward Ave.\, Bl
 oomfield Hills\, MI\, 48304\, United States
X-APPLE-STRUCTURED-LOCATION;VALUE=URI;X-ADDRESS=39221 Woodward Ave.\, Bloom
 field Hills\, MI\, 48304\, United States;X-APPLE-RADIUS=100;X-TITLE=Cranbr
 ook Art Museum deSalle Auditorium:geo:0,0
END:VEVENT
END:VCALENDAR