BEGIN:VCALENDAR
VERSION:2.0
PRODID:-//wp-events-plugin.com//7.2.3.1//EN
TZID:America/Detroit
X-WR-TIMEZONE:America/Detroit
BEGIN:VEVENT
UID:6683@cranbrookartmuseum.org
DTSTART:20170309T180000Z
DTEND:20170309T190000Z
DTSTAMP:20251223T112031Z
URL:https://cranbrookartmuseum.org/events/an-evening-of-art-science/
SUMMARY:Postponed: An Evening of Art + Science
DESCRIPTION:This lecture has been postponed due to the power outage. Please
  check back for details.
ATTACH;FMTTYPE=image/jpeg:https://cranbrookartmuseum.org/wp-content/upload
 s/2016/12/Scott-Hocking.jpg
CATEGORIES:Lectures + Talks
LOCATION:Cranbrook Art Museum deSalle Auditorium\, 39221 Woodward Ave.\, Bl
 oomfield Hills\, MI\, 48304\, United States
X-APPLE-STRUCTURED-LOCATION;VALUE=URI;X-ADDRESS=39221 Woodward Ave.\, Bloom
 field Hills\, MI\, 48304\, United States;X-APPLE-RADIUS=100;X-TITLE=Cranbr
 ook Art Museum deSalle Auditorium:geo:0,0
END:VEVENT
END:VCALENDAR