BEGIN:VCALENDAR
VERSION:2.0
PRODID:-//wp-events-plugin.com//7.2.3.1//EN
TZID:America/Detroit
X-WR-TIMEZONE:America/Detroit
BEGIN:VEVENT
UID:9988@cranbrookartmuseum.org
DTSTART:20180929T110000Z
DTEND:20180929T170000Z
DTSTAMP:20260108T083610Z
URL:https://cranbrookartmuseum.org/events/art-lab-grand-opening/
SUMMARY:ART LAB Grand Opening!
DESCRIPTION:Join us for the opening of ART LAB -- Cranbrook Art Museum’s 
 new creative space for adults\, families\, and children! Stop by on Saturd
 ay\, September 29th for the first look at our new space and to explore wha
 t's to come with all ages art making\, learning activities\, snacks and ce
 lebration!\nSilkscreen Printing – Design and cut your own stencil to cre
 ate a custom print. LOVE your design? Print it on a tote bag for $10!\nPun
 k Band Posters – Come up with your own band name and collage an original
  band poster!\nPunk Pins – Design and press your own DIY pinback buttons
 !\nArt Lab offers programming for all ages\, helping visitors make connect
 ions between their creations and ideas encountered in the museum. From eng
 aging evening events to fun-filled family activities\, Art Lab is a hands-
 on\, minds-on space to tap into creativity.\n&nbsp\;\n\nFree with museum a
 dmission.
ATTACH;FMTTYPE=image/jpeg:https://cranbrookartmuseum.org/wp-content/upload
 s/2018/09/CAM_35_05.png
CATEGORIES:Events,Family,Workshops
LOCATION:Cranbrook Art Museum\, 39221 Woodward Ave\, Box 801\, Bloomfield H
 ills\, MI\, 48303\, United States
GEO:42.5727665;-83.25051710000002
X-APPLE-STRUCTURED-LOCATION;VALUE=URI;X-ADDRESS=39221 Woodward Ave\, Box 80
 1\, Bloomfield Hills\, MI\, 48303\, United States;X-APPLE-RADIUS=100;X-TIT
 LE=Cranbrook Art Museum:geo:42.5727665,-83.25051710000002
END:VEVENT
END:VCALENDAR