BEGIN:VCALENDAR
VERSION:2.0
PRODID:-//wp-events-plugin.com//7.2.3.1//EN
TZID:America/Detroit
X-WR-TIMEZONE:America/Detroit
BEGIN:VEVENT
UID:9996@cranbrookartmuseum.org
DTSTART:20180918T160000Z
DTEND:20180918T173000Z
DTSTAMP:20260112T133725Z
URL:https://cranbrookartmuseum.org/events/artist-in-residence-lectures/
SUMMARY:Artist-in-Residence Lectures
DESCRIPTION:he Public Lecture series at Cranbrook Academy of Art is a criti
 cal and idiosyncratic look into the conversations and inquiry that drives 
 the 11 departments in Art\, Architecture and Design.\n\nEach year we kick-
 off our public lecture series with lectures by our own Artists-in-Residenc
 e. We invite the public to join us as they discuss their practice\, philos
 ophy and current projects.\n\nOn Sept. 18\, we will be hearing from:\nDani
 elle Dean\, Artist-in-Residence and Head of Photography\nElliott Earls\, D
 esigner-in-Residence and Head of 2D Design\n\nThis event is FREE.
ATTACH;FMTTYPE=image/jpeg:https://cranbrookartmuseum.org/wp-content/upload
 s/2018/09/CAA-Campus-Spring-2016-PD-Rearick-HiRes-03_37.png
CATEGORIES:Events,Lectures + Talks
LOCATION:Cranbrook Art Museum deSalle Auditorium\, 39221 Woodward Ave.\, Bl
 oomfield Hills\, MI\, 48304\, United States
X-APPLE-STRUCTURED-LOCATION;VALUE=URI;X-ADDRESS=39221 Woodward Ave.\, Bloom
 field Hills\, MI\, 48304\, United States;X-APPLE-RADIUS=100;X-TITLE=Cranbr
 ook Art Museum deSalle Auditorium:geo:0,0
END:VEVENT
END:VCALENDAR