BEGIN:VCALENDAR
VERSION:2.0
PRODID:-//wp-events-plugin.com//7.2.3.1//EN
TZID:America/Detroit
X-WR-TIMEZONE:America/Detroit
BEGIN:VEVENT
UID:11742@cranbrookartmuseum.org
DTSTART;TZID=America/Detroit:20260129T183000
DTEND;TZID=America/Detroit:20260129T193000
DTSTAMP:20251217T195138Z
URL:https://cranbrookartmuseum.org/events/artist-led-tour-mythic-chaos-50-
 years-of-destroy-all-monsters-with-cary-loren/
SUMMARY:Artist-Led Tour: "Mythic Chaos: 50 Years of Destroy All Monsters" w
 ith Cary Loren
DESCRIPTION:Mythic Chaos: 50 Years of Destroy All Monsters celebrates the l
 egacy of Cary Loren\, Mike Kelley\, Jim Shaw\, and Niagara\, collectively 
 known as Destroy All Monsters (DAM). Tracing the lineage from the early 19
 70s through today\, featuring key moments in the collective’s creative a
 rc. This exhibition explores the group’s source inspirations\, including
  formative moments at God’s Oasis\, their early practice space\, and the
  title of their first Xerox fliers.\n\nJoin Cary Loren\, multihyphenate ar
 tist and founding member of the Destroy All Monsters collective\, for an 
 informal walkthrough of the exhibition and to hear more about his work. Th
 is tour is free and open to the public\; space is limited.\n\nPlease plan 
 to arrive no later than 6:15pm to participate in this tour. Tours meet in 
 Larson Gallery\, at the entrance to the exhibition.  
ATTACH;FMTTYPE=image/jpeg:https://cranbrookartmuseum.org/wp-content/upload
 s/2025/12/CAM-Fall-Members-Opening_11-2-25_290-Large.jpeg
CATEGORIES:Tours
END:VEVENT
BEGIN:VTIMEZONE
TZID:America/Detroit
X-LIC-LOCATION:America/Detroit
BEGIN:STANDARD
DTSTART:20251102T010000
TZOFFSETFROM:-0400
TZOFFSETTO:-0500
TZNAME:EST
END:STANDARD
END:VTIMEZONE
END:VCALENDAR