BEGIN:VCALENDAR
VERSION:2.0
PRODID:-//wp-events-plugin.com//7.2.3.1//EN
TZID:America/Detroit
X-WR-TIMEZONE:America/Detroit
BEGIN:VEVENT
UID:10976@cranbrookartmuseum.org
DTSTART;TZID=America/Detroit:20231130T183000
DTEND;TZID=America/Detroit:20231130T193000
DTSTAMP:20260112T134240Z
URL:https://cranbrookartmuseum.org/events/artist-led-tour-skilled-labor-ma
 rio-moore-sabrina-nelson-richard-lewis/
SUMMARY:Artist-led Tour: Skilled Labor with Mario Moore\, Sabrina Nelson\, 
 and Richard Lewis
DESCRIPTION:Throughout the run of the landmark exhibition Skilled Labor: Bl
 ack Realism in Detroit\, Cranbrook Art Museum hosts artist-led tours for s
 mall groups. These tours will be led by artists included in the exhibition
  and have been paired together based on connections to each other and thei
 r work. The tours will be informal discussions about the artwork and this 
 community of Detroit artists. \n\nMario Moore\, painter and co-curator of
  Skilled Labor: Black Realism in Detroit was raised by artist Sabrina Nels
 on in the Black arts community and learned from an early age from mentors 
 like Richard Lewis\, who taught him to paint after school. \n\n   \n\n
 Sabrina Nelson lives and works in Detroit\, where she was born and raised.
  She attended the College of Creative Studies (MFA\, 1991). \n\nNelson wa
 s born in the wake of the ’67 Rebellion in Detroit. She is a painter inf
 luenced by Yoruba religion as well as Eastern and African philosophies. He
 r work is a combination of spirit\, motion\, and intimacy. Not limited to 
 two dimensions\, the scope of her work also includes sculpture\, objects\,
  performance\, and installation.  \n\nNelson has been a professional art
 ist for more than thirty-five years and an educator for more than thirty y
 ears. She occupies positions at both the Detroit Institute of Arts as a st
 udio art teacher and at her alma mater the College of Creative Studies. Ad
 ditionally\, Nelson has lectured on the preservation of Black feminism in 
 art at the Charles H. Wright Museum of African American History and has be
 en a guest curator at both the Carr Center and the Music Hall Performing A
 rts Center. Her work has been exhibited at the Detroit Institute of Arts\,
  the Charles H. Wright Museum of African American History\, the Museum of 
 Contemporary Art Detroit\, and the African American Art in Culture Complex
  in San Francisco\, as well as in Florida\, Illinois\, Louisiana\, New Yor
 k\, and Ohio. \n\n \n\nRichard Lewis lives and works in Detroit\, where 
 he was born and raised. After graduating from Cass Technical High School i
 n Detroit\, Lewis attended the College for Creative Studies (BFA\, Fine Ar
 ts\, 1991) and the Yale University School of Art (MFA\, Painting and Print
  Media\, 1993).  \n\nLewis started drawing when he was four\, and by the
  age of ten\, his godmother told him to study his family members before go
 ing into the next room and drawing. That experience started his keen obser
 vation of faces and features.  \n\nLewis came back to Detroit after his 
 studies\, teaching African American art history and driving a cab. He move
 d to New York City in 1995 to be an artist-in-residence at The Studio Muse
 um in Harlem before completing another residency at Henry Street Settlemen
 t and working for the Metropolitan Museum of Art. In 2002\, Lewis moved ba
 ck to Detroit\, where he continues to work to this day. He was a recipient
  of a Kresge Foundation Fellowship in 2011. \n\n \n\nMario Moore lives a
 nd works in Detroit\, where he was born and raised. He attended the Colleg
 e for Creative Studies (BFA\, Illustration\, 2009) and the Yale University
  School of Art (MFA\, Painting\, 2013). \n\nMario Moore’s exquisitely r
 endered realist paintings focus on the personal\, social and political imp
 lications of our segregated society. Presenting stories of his own life an
 d those of friends and family\, Moore weaves together multiple references 
 to history\, art\, politics\, and literature to complete his narrative. \
 n\nMoore has been awarded the prestigious Princeton Hodder Fellowship at P
 rinceton University and has participated as an artist-in-residence at Knox
  College\, Duke University\, Fountainhead Residency\, and the Josef and An
 ni Albers Foundation. He has been featured in The New York Times among oth
 er publications. In 2021\, he had his first museum survey exhibition\, Ens
 hrined: Presence + Preservation\, at the Charles H. Wright Museum of Afric
 an American History in Detroit and is a recipient of a Kresge Visual Artis
 t Fellowship in 2023. Moore’s work is in several public and private coll
 ections\, including the Detroit Institute of Arts\, The Studio Museum in H
 arlem\, Princeton University Art Museum\, and Cranbrook Art Museum.\n\nFre
 e and open to the public\, space is limited\, and advanced registration en
 couraged. The ability to stand and/or walk for one hour is required for th
 is event.   \n\n&nbsp\;\n\n[gravityform id="61" title="true"]
ATTACH;FMTTYPE=image/jpeg:https://cranbrookartmuseum.org/wp-content/upload
 s/2023/04/MarioMoore_05-06-21_05.jpg
CATEGORIES:Lectures + Talks
LOCATION:Cranbrook Art Museum\, 39221 Woodward Avenue\, Bloomfield Hills\, 
 MI\, 48303\, United States
X-APPLE-STRUCTURED-LOCATION;VALUE=URI;X-ADDRESS=39221 Woodward Avenue\, Blo
 omfield Hills\, MI\, 48303\, United States;X-APPLE-RADIUS=100;X-TITLE=Cran
 brook Art Museum:geo:0,0
END:VEVENT
BEGIN:VTIMEZONE
TZID:America/Detroit
X-LIC-LOCATION:America/Detroit
BEGIN:STANDARD
DTSTART:20231105T010000
TZOFFSETFROM:-0400
TZOFFSETTO:-0500
TZNAME:EST
END:STANDARD
END:VTIMEZONE
END:VCALENDAR