BEGIN:VCALENDAR
VERSION:2.0
PRODID:-//wp-events-plugin.com//7.2.3.1//EN
TZID:America/Detroit
X-WR-TIMEZONE:America/Detroit
BEGIN:VEVENT
UID:10664@cranbrookartmuseum.org
DTSTART;TZID=America/Detroit:20230209T183000
DTEND;TZID=America/Detroit:20230209T193000
DTSTAMP:20260113T124532Z
URL:https://cranbrookartmuseum.org/events/artist-tour-scott-hocking-and-cl
 inton-snider/
SUMMARY:Artist Tour: Scott Hocking and Clinton Snider
DESCRIPTION:Join us for an artist-led tour of Scott Hocking: Detroit Storie
 s in Main and North Galleries. Scott will be joined in conversation by art
 ist and collaborator Clinton Snider to discuss the RELICS series.  \n\nOr
 iginally conceived in 2001\, the RELICS installation attempts to chronicle
  the 300-year history of Detroit through found objects alone. Thousands of
  decaying and eroding man-made objects are organized into grid like reliqu
 ary walls\, creating a natural history museum of the future. A labor-inten
 sive collaboration with Clinton Snider\, the installation was first exhib
 ited at the Detroit Institute of Arts and consisted of over 400 individual
  'boxes.' Since then\, it has been reconfigured site specifically multiple
  times including its current installation in North Gallery at Cranbrook Ar
 t Museum\, and new boxes continue to be created. \n\n[gravityform id="37"
  title="true"]
ATTACH;FMTTYPE=image/jpeg:https://cranbrookartmuseum.org/wp-content/upload
 s/2022/10/RELICS_2001_DIA_detail2_credit_RH_Shell_Hensleigh.jpg
CATEGORIES:Lectures + Talks,Scott Hocking: Detroit Stories
LOCATION:Cranbrook Art Museum\, 39221 Woodward Ave\, Box 801\, Bloomfield H
 ills\, MI\, 48303\, United States
GEO:42.5727665;-83.25051710000002
X-APPLE-STRUCTURED-LOCATION;VALUE=URI;X-ADDRESS=39221 Woodward Ave\, Box 80
 1\, Bloomfield Hills\, MI\, 48303\, United States;X-APPLE-RADIUS=100;X-TIT
 LE=Cranbrook Art Museum:geo:42.5727665,-83.25051710000002
END:VEVENT
BEGIN:VTIMEZONE
TZID:America/Detroit
X-LIC-LOCATION:America/Detroit
BEGIN:STANDARD
DTSTART:20221106T010000
TZOFFSETFROM:-0400
TZOFFSETTO:-0500
TZNAME:EST
END:STANDARD
END:VTIMEZONE
END:VCALENDAR