BEGIN:VCALENDAR
VERSION:2.0
PRODID:-//wp-events-plugin.com//7.2.3.1//EN
TZID:America/Detroit
X-WR-TIMEZONE:America/Detroit
BEGIN:VEVENT
UID:11715@cranbrookartmuseum.org
DTSTART;TZID=America/Detroit:20251211T153000
DTEND;TZID=America/Detroit:20251211T173000
DTSTAMP:20251030T153251Z
URL:https://cranbrookartmuseum.org/events/artlab-afterschool-light-up-the-
 night/
SUMMARY:ArtLab Afterschool: Light Up the Night
DESCRIPTION:Drop in and get creative during open Art Lab Afterschool with r
 elaxing\, artist-led artmaking. Students can arrive at any time during the
  open hours period\, allowing at least an hour for the artmaking project.\
 n\nSelect Thursdays from 3:30-5:30pm for students in 3rd grade and up. Pre
 -registration is required\, $15 per student. Each participant under 13 mus
 t be accompanied to the museum by an adult. During the activity\, adults a
 re welcome to explore the rest of the museum.\n\n&nbsp\;\n\nDecember 11 
 – Light Up the Night \nExplore the varied ceramic work in our collection
  as inspiration to create glowing ceramic lanterns that light up your worl
 d.\n\nJanuary 22 – Wild Things \nUse your imagination with fabric and mi
 xed media to make wild and wonderful creatures like those by the Haas Brot
 hers!\n\nFebruary 12 – Interior Designer \nStep into the role of designe
 r and create your own room inspired by real-life design legend Florence Kn
 oll. \n\nMarch 12 – Textured Monoprints \nSquish\, layer\, and press to
  make awesome one-of-a-kind prints using gel plates and tons of fun textur
 es! \n\n 
ATTACH;FMTTYPE=image/jpeg:https://cranbrookartmuseum.org/wp-content/upload
 s/2023/05/CAM_35_43.jpg
CATEGORIES:Family,Workshops
LOCATION:Cranbrook Art Museum\, Art Lab\, 39221 Woodward Ave.\, Bloomfield 
 Hills\, MI\, 48304\, United States
X-APPLE-STRUCTURED-LOCATION;VALUE=URI;X-ADDRESS=39221 Woodward Ave.\, Bloom
 field Hills\, MI\, 48304\, United States;X-APPLE-RADIUS=100;X-TITLE=Cranbr
 ook Art Museum\, Art Lab:geo:0,0
END:VEVENT
BEGIN:VTIMEZONE
TZID:America/Detroit
X-LIC-LOCATION:America/Detroit
BEGIN:STANDARD
DTSTART:20251102T010000
TZOFFSETFROM:-0400
TZOFFSETTO:-0500
TZNAME:EST
END:STANDARD
END:VTIMEZONE
END:VCALENDAR