BEGIN:VCALENDAR
VERSION:2.0
PRODID:-//wp-events-plugin.com//7.2.3.1//EN
TZID:America/Detroit
X-WR-TIMEZONE:America/Detroit
BEGIN:VEVENT
UID:11099@cranbrookartmuseum.org
DTSTART;TZID=America/Detroit:20240406T180000
DTEND;TZID=America/Detroit:20240406T210000
DTSTAMP:20260113T125802Z
URL:https://cranbrookartmuseum.org/events/artmembers-opening-preview-party
 -2024-graduate-degree-exhibition-of-cranbrook-academy-of-art/
SUMMARY:ArtMembers' Opening Preview Party - 2024 Graduate Degree Exhibition
  of Cranbrook Academy of Art
DESCRIPTION:Celebrate the 2024 Graduate Degree Exhibition of Cranbrook Acad
 emy of Art at Cranbrook Art Museum\, on Saturday\, April 6\, 2024\, from 6
 -9pm! Book ArtMember and General Public tickets using the button above.\n\
 nThe innovative work of the next generation of architects\, artists\, and 
 designers will be on display at the 2024 Graduate Degree Exhibition of Cra
 nbrook Academy of Art. The Degree Exhibition showcases pieces that are the
  culmination of two years of studio work from a diverse group of graduates
  as they launch their career.\n\nCost:\n\nArtMembers: Always Free! Become 
 an ArtMember.\n\nGeneral Public: $20/person
ATTACH;FMTTYPE=image/jpeg:https://cranbrookartmuseum.org/wp-content/upload
 s/2024/01/Cranbrook-Academy-of-Art-Degree-Show-Members-Opening-2023_132.jp
 g
CATEGORIES:2024 Graduate Degree Exhibition of Cranbrook Academy of Art
LOCATION:Cranbrook Art Museum\, 39221 Woodward Ave\, Box 801\, Bloomfield H
 ills\, MI\, 48303\, United States
GEO:42.5727665;-83.25051710000002
X-APPLE-STRUCTURED-LOCATION;VALUE=URI;X-ADDRESS=39221 Woodward Ave\, Box 80
 1\, Bloomfield Hills\, MI\, 48303\, United States;X-APPLE-RADIUS=100;X-TIT
 LE=Cranbrook Art Museum:geo:42.5727665,-83.25051710000002
END:VEVENT
BEGIN:VTIMEZONE
TZID:America/Detroit
X-LIC-LOCATION:America/Detroit
BEGIN:DAYLIGHT
DTSTART:20240310T030000
TZOFFSETFROM:-0500
TZOFFSETTO:-0400
TZNAME:EDT
END:DAYLIGHT
END:VTIMEZONE
END:VCALENDAR