BEGIN:VCALENDAR
VERSION:2.0
PRODID:-//wp-events-plugin.com//7.2.3.1//EN
TZID:America/Detroit
X-WR-TIMEZONE:America/Detroit
BEGIN:VEVENT
UID:10939@cranbrookartmuseum.org
DTSTART;TZID=America/Detroit:20231027T180000
DTEND;TZID=America/Detroit:20231027T210000
DTSTAMP:20260115T135641Z
URL:https://cranbrookartmuseum.org/events/artmembers-opening-preview-party
 -fall-season-2023/
SUMMARY:ArtMembers' Opening Preview Party - Fall Season 2023
DESCRIPTION:Celebrate the opening of our 2023 fall exhibitions Skilled Labo
 r: Black Realism in Detroit\, LeRoy Foster: Solo Show\, Carl Toth: Reorder
 ing Fictions\, and the next installment in our Fresh Paint series\, Ash Ar
 der: Flesh Tones.\n\nOnline registration for the Opening Preview Party clo
 ses at 12pm ET on Friday\, October 27\, 2023. General public and ArtMember
  admission/check-in for the opening preview will be available at the door.
  \n\nCost:\n\nArtMembers: Free (free guests based on your membership leve
 l) Become an ArtMember!\n\nGeneral Public: $20
ATTACH;FMTTYPE=image/jpeg:https://cranbrookartmuseum.org/wp-content/upload
 s/2023/08/Fall-Season-2023-Collage.png
CATEGORIES:Ash Arder: Flesh Tones,Carl Toth: Reordering Fictions,LeRoy
 Foster: Solo Show,Member Events,Skilled Labor: Black Realism in Detroit
LOCATION:Cranbrook Art Museum\, 39221 Woodward Ave\, Box 801\, Bloomfield H
 ills\, MI\, 48303\, United States
GEO:42.5727665;-83.25051710000002
X-APPLE-STRUCTURED-LOCATION;VALUE=URI;X-ADDRESS=39221 Woodward Ave\, Box 80
 1\, Bloomfield Hills\, MI\, 48303\, United States;X-APPLE-RADIUS=100;X-TIT
 LE=Cranbrook Art Museum:geo:42.5727665,-83.25051710000002
END:VEVENT
BEGIN:VTIMEZONE
TZID:America/Detroit
X-LIC-LOCATION:America/Detroit
BEGIN:DAYLIGHT
DTSTART:20230312T030000
TZOFFSETFROM:-0500
TZOFFSETTO:-0400
TZNAME:EDT
END:DAYLIGHT
END:VTIMEZONE
END:VCALENDAR