BEGIN:VCALENDAR
VERSION:2.0
PRODID:-//wp-events-plugin.com//7.2.3.1//EN
TZID:America/Detroit
X-WR-TIMEZONE:America/Detroit
BEGIN:VEVENT
UID:10074@cranbrookartmuseum.org
DTSTART:20190413T180000Z
DTEND:20190413T210000Z
DTSTAMP:20260115T135904Z
URL:https://cranbrookartmuseum.org/events/artmembers-opening-reception-for
 -the-2019-graduate-degree-exhibition/
SUMMARY:ARTMEMBERS’ OPENING RECEPTION FOR THE 2019 GRADUATE DEGREE EXHIBI
 TION
DESCRIPTION:Join us for the ArtMembers’ Opening of the 2019 Graduate Degr
 ee Exhibition of Cranbrook Academy of Art where you will see the most inno
 vative work from the next generation of architects\, artists\, and designe
 rs. The Graduate Degree Exhibition showcases pieces that are the culminati
 on of two years of studio work from a diverse group of more than 60 gradua
 tes as they launch their careers.\n\nTo join us for the ArtMembers’ Open
 ing Reception\, purchase a membership online or at the door the evening o
 f the event.\nThe following promotion is valid for new members only: Recei
 ve an extra month of membership (13 months for the price of 12) if you pur
 chase a membership before 5/12/19.\n\nNon-members can purchase a ticket at
  the door for $20\n\nPresenting Sponsor\n
ATTACH;FMTTYPE=image/jpeg:https://cranbrookartmuseum.org/wp-content/upload
 s/2019/03/GraduateDegreeShow_112-500kbs.png
CATEGORIES:2019 Graduate Degree Exhibtion,Events
LOCATION:Cranbrook Art Museum\, 39221 Woodward Ave\, Box 801\, Bloomfield H
 ills\, MI\, 48303\, United States
GEO:42.5727665;-83.25051710000002
X-APPLE-STRUCTURED-LOCATION;VALUE=URI;X-ADDRESS=39221 Woodward Ave\, Box 80
 1\, Bloomfield Hills\, MI\, 48303\, United States;X-APPLE-RADIUS=100;X-TIT
 LE=Cranbrook Art Museum:geo:42.5727665,-83.25051710000002
END:VEVENT
END:VCALENDAR