BEGIN:VCALENDAR
VERSION:2.0
PRODID:-//wp-events-plugin.com//7.2.3.1//EN
TZID:America/Detroit
X-WR-TIMEZONE:America/Detroit
BEGIN:VEVENT
UID:10871@cranbrookartmuseum.org
DTSTART;TZID=America/Detroit:20230805T183000
DTEND;TZID=America/Detroit:20230805T200000
DTSTAMP:20260116T113908Z
URL:https://cranbrookartmuseum.org/events/autophysiopsychic-millennium-per
 formance/
SUMMARY:Autophysiopsychic Millennium Performance - Something Else in the Ga
 rden
DESCRIPTION:Cranbrook Art Museum\, Horizons-Upward Bound\, and Cranbrook Up
 per Schools partner to host the creative research and performance collecti
 ve Autophysiopsychic Millennium for a summer residency culminating with a 
 public performance\, "Something Else in the Garden\," at Cranbrook's Greek
  Theatre. RSVP is encouraged\, please sign up below.\n\nAutophysiopsychic 
 Millennium (APPM) is a creative research and performance collective that e
 xplores\, experiments\, and studies the music philosophy and spiritual wor
 ks of world-renowned multi-instrumentalist musician\, composer\, author\, 
 visual artist\, professor\, Afro-Futurist\, and Detroit native\, Dr. Yusef
  Abdul Lateef. Autophysiophyschic Music is the term he developed to descri
 be what the world today calls Jazz\, Blues\, Gospel\, Hip-Hop - Black Musi
 c. He described autophysiopsychic music as music that comes from one's phy
 sical\, mental\, and spiritual self. \n\nAs a Black-led collective of mus
 icians\, APPM pushes back on the use of the commercialized term “jazz\,
 ” and aims to reclaim the genre through Lateef’s teachings. Dr. Lateef
  left a number of important resources for composers and listeners on the s
 tudy and methods of this music. He was also an Afro-Futurist\, an early pr
 ogenitor of the movement that sets the tone for the future of what Blackne
 ss is as defined by Black people. With Sci-fi novels to music prophesying 
 about the robot age\, Dr. Yusef Lateef's work remains largely under-resear
 ched in both music circles and academic settings. \n\nAutophysiopsychic M
 illennium presents workshops and performances as a series conducted thus f
 ar in Chicago\, Detroit\, New York (Carnegie Hall)\, Ann Arbor\, and now\,
  Bloomfield Hills. Cranbrook has commissioned a new\, site-specific perfor
 mance that will draw on Lateef’s 1988 Afrofuturist novella Night in the 
 Garden of Love.  \n\nThroughout the summer\, visitors to Cranbrook Art M
 useum will find a listening room inside the artist’s lounge in the museu
 m’s galleries featuring the album Live at Cranbrook\, recorded by Dr. Yu
 sef Abdul Lateef’s quartet in what is now Larson Gallery on April 9\, 19
 58\, as well as archival materials related to the concert\, 65 years after
  it occurred. Check out more details on Lateef’s performance on Cranbroo
 k Kitchen Sink Blog.\n\n\n\n&nbsp\;\n\n[gravityform id="47" title="true"]
ATTACH;FMTTYPE=image/jpeg:https://cranbrookartmuseum.org/wp-content/upload
 s/2023/05/MicrosoftTeams-image-42.jpg
CATEGORIES:Performance
LOCATION:Cranbrook Greek Theatre\, 39221 Woodward Avenue\, Bloomfield Hills
 \, MI\, 48304\, United States
X-APPLE-STRUCTURED-LOCATION;VALUE=URI;X-ADDRESS=39221 Woodward Avenue\, Blo
 omfield Hills\, MI\, 48304\, United States;X-APPLE-RADIUS=100;X-TITLE=Cran
 brook Greek Theatre:geo:0,0
END:VEVENT
BEGIN:VTIMEZONE
TZID:America/Detroit
X-LIC-LOCATION:America/Detroit
BEGIN:DAYLIGHT
DTSTART:20230312T030000
TZOFFSETFROM:-0500
TZOFFSETTO:-0400
TZNAME:EDT
END:DAYLIGHT
END:VTIMEZONE
END:VCALENDAR