BEGIN:VCALENDAR
VERSION:2.0
PRODID:-//wp-events-plugin.com//7.2.3.1//EN
TZID:America/Detroit
X-WR-TIMEZONE:America/Detroit
BEGIN:VEVENT
UID:10011@cranbrookartmuseum.org
DTSTART:20181129T180000Z
DTEND:20181129T190000Z
DTSTAMP:20260123T140644Z
URL:https://cranbrookartmuseum.org/events/brittany-nelson/
SUMMARY:Brittany Nelson
DESCRIPTION:Brittany Nelson works with 19th century photographic chemistry 
 techniques to address themes of feminist science fiction and queer abstrac
 tion. She is a 2011 graduate of Cranbrook Academy of Art’s Photography d
 epartment. She is the recipient of a 2015 Creative Capital Grant in Visual
  Arts and a Theo Westenberger Foundation Grant for advancing women in the 
 arts. She has hosted exhibitions around the world and been published exten
 sively.\n\nThis lecture is sponsored by the Photography Department\nThis l
 ecture is FREE.
ATTACH;FMTTYPE=image/jpeg:https://cranbrookartmuseum.org/wp-content/upload
 s/2018/09/Mordancage3_o.jpg
CATEGORIES:Events,Lectures + Talks
LOCATION:Cranbrook Art Museum deSalle Auditorium\, 39221 Woodward Ave.\, Bl
 oomfield Hills\, MI\, 48304\, United States
X-APPLE-STRUCTURED-LOCATION;VALUE=URI;X-ADDRESS=39221 Woodward Ave.\, Bloom
 field Hills\, MI\, 48304\, United States;X-APPLE-RADIUS=100;X-TITLE=Cranbr
 ook Art Museum deSalle Auditorium:geo:0,0
END:VEVENT
END:VCALENDAR