BEGIN:VCALENDAR
VERSION:2.0
PRODID:-//wp-events-plugin.com//7.2.3.1//EN
TZID:America/Detroit
X-WR-TIMEZONE:America/Detroit
BEGIN:VEVENT
UID:11744@cranbrookartmuseum.org
DTSTART;TZID=America/Detroit:20260414T180000
DTEND;TZID=America/Detroit:20260414T193000
DTSTAMP:20260213T170311Z
URL:https://cranbrookartmuseum.org/events/caa-public-lecture-germane-barne
 s-turn-the-mic-up-galleries-closed/
SUMMARY:CAA Public Lecture: Germane Barnes - Turn the mic up (Galleries Clo
 sed)
DESCRIPTION:Join Cranbrook Academy of Art at deSalle Auditorium for a free\
 , public lecture with Germane Barnes on Tuesday\, April 14\, at 6pm. Pleas
 e enter through the Cranbrook Academy of Art Library\; Cranbrook Art Museu
 m will be closed.\n\nGermane Barnes is a Chicago-born\, Miami-based licens
 ed architect\, designer\, and founding principal of Studio Barnes\, a rese
 arch-driven design practice that interrogates the intersections of archite
 cture and identity. Through Studio Barnes\, Barnes examines architecture
 ’s social and political agency\, blending rigorous historical research w
 ith speculative design to explore how the built environment shapes—and i
 s shaped by—culture\, race\, and community. In addition to his professio
 nal practice\, Barnes serves as an Associate Professor and Director of the
  Master of Architecture Graduate Programs at the University of Miami Schoo
 l of Architecture\, where he mentors emerging designers and fosters critic
 al discourse around architecture’s cultural and societal impact.\n\nThro
 ugh his dual role as educator and practitioner\, Germane Barnes continues 
 to push the boundaries of contemporary architecture\, blending research\, 
 design\, and cultural critique. Studio Barnes stands as a testament to his
  commitment to exploring architecture’s potential to foster inclusivity\
 , address historical inequities\, and imagine new spatial futures. With a 
 career distinguished by prizes\, fellowships\, and institutional recogniti
 on\, Barnes remains a leading voice in architecture today\, advancing conv
 ersations at the nexus of design\, identity\, and social impact.\n\n[capti
 on id="attachment_70573" align="alignnone" width="1024"] "Columnar Disorde
 r" at the Art Institute of Chicago.[/caption]\n\nBarnes’ design work has
  garnered national and international recognition for its thoughtful engage
 ment with both form and social meaning. His projects have been exhibited a
 t leading institutions\, including the Art Institute of Chicago\, the Muse
 um of Modern Art’s Reconstructions: Architecture and Blackness in Americ
 a\, and the 2021 Chicago Architecture Biennial. His work frequently addres
 ses themes of diaspora\, Black identity\, and historical memory\, translat
 ing these concerns into compelling architectural experiences that challeng
 e conventional narratives of space and design.\n\nBarnes has received nume
 rous prestigious awards and fellowships. He is a recipient of the Architec
 tural League Prize\, which recognized his innovative design research and c
 reative contributions to the field. Barnes is also a Rome Prize Fellow at 
 the American Academy in Rome (2019–2020)\, an honor that enabled him to 
 advance his research on architecture\, identity\, and cultural memory thro
 ugh immersive study abroad. In addition\, he was selected for the inaugura
 l cohort of The Dorchester Industries Experimental Design Lab (2021)\, a p
 rogram created by Theaster Gates and sponsored by Prada\, highlighting his
  engagement with experimental\, socially responsive design.\n\nStudio Barn
 es’ work is in the permanent collections of the San Francisco Museum of 
 Modern Art\, the Los Angeles County Museum of Art\, and the National Museu
 m of African American History and Culture. His architectural interventions
  and conceptual projects have been featured in The New York Times\, Archit
 ectural Record\, Domus\, and other influential publications\, with coverag
 e highlighting both the conceptual rigor and social relevance of his work.
  One of his most widely recognized projects\, Griot\, was presented as par
 t of Biennale Architettura 2023’s Laboratory of the Future\, earning int
 ernational attention for its innovative integration of narrative\, history
 \, and community in architectural form.
ATTACH;FMTTYPE=image/jpeg:https://cranbrookartmuseum.org/wp-content/upload
 s/2026/01/Photo-Apr-06-2022-2-02-12-PM.jpg
CATEGORIES:Lectures + Talks
LOCATION:Cranbrook Art Museum deSalle Auditorium\, 39221 Woodward Ave.\, Bl
 oomfield Hills\, MI\, 48304\, United States
X-APPLE-STRUCTURED-LOCATION;VALUE=URI;X-ADDRESS=39221 Woodward Ave.\, Bloom
 field Hills\, MI\, 48304\, United States;X-APPLE-RADIUS=100;X-TITLE=Cranbr
 ook Art Museum deSalle Auditorium:geo:0,0
END:VEVENT
BEGIN:VTIMEZONE
TZID:America/Detroit
X-LIC-LOCATION:America/Detroit
BEGIN:DAYLIGHT
DTSTART:20260308T030000
TZOFFSETFROM:-0500
TZOFFSETTO:-0400
TZNAME:EDT
END:DAYLIGHT
END:VTIMEZONE
END:VCALENDAR