BEGIN:VCALENDAR
VERSION:2.0
PRODID:-//wp-events-plugin.com//7.2.3.1//EN
TZID:America/Detroit
X-WR-TIMEZONE:America/Detroit
BEGIN:VEVENT
UID:9950@cranbrookartmuseum.org
DTSTART:20180428T130000Z
DTEND:20180428T140000Z
DTSTAMP:20260123T063518Z
URL:https://cranbrookartmuseum.org/events/collections-wing-tour-cranbrook-
 alumni-2018-04-28/
SUMMARY:Collections Wing Tour: Cranbrook Alumni
DESCRIPTION:This April and May\, learn more about Cranbrook Academy of Art
 ’s history and legacy. Join us on a tour of the Art Museum’s private c
 ollections wing\, where in honor of the 2018 Graduate Degree Exhibition\, 
 we’ll be highlighting objects created by Cranbrook Academy of Art’s al
 umni including: McArthur Binion (Painting\, 1973)\, Ralph Rapson\, (Depar
 tment of Architecture and City Planning\, 1948-1940)\, Sherri Smith (Fibe
 r\, 1967) and Nick Cave (Fiber\, 1988)\n\n&nbsp\;\n\n&nbsp\;\nImage credi
 t:\n© Estate of Ralph Rapson. Photograph by R. H. Hensleigh and Tim Thaye
 r.
ATTACH;FMTTYPE=image/jpeg:https://cranbrookartmuseum.org/wp-content/upload
 s/2018/03/Rapson-Ralph_Rocking-Chair_1940.jpg
CATEGORIES:Tours
LOCATION:Cranbrook Art Museum\, 39221 Woodward Ave\, Box 801\, Bloomfield H
 ills\, MI\, 48303\, United States
GEO:42.5727665;-83.25051710000002
X-APPLE-STRUCTURED-LOCATION;VALUE=URI;X-ADDRESS=39221 Woodward Ave\, Box 80
 1\, Bloomfield Hills\, MI\, 48303\, United States;X-APPLE-RADIUS=100;X-TIT
 LE=Cranbrook Art Museum:geo:42.5727665,-83.25051710000002
END:VEVENT
END:VCALENDAR