BEGIN:VCALENDAR
VERSION:2.0
PRODID:-//wp-events-plugin.com//7.2.3.1//EN
TZID:America/Detroit
X-WR-TIMEZONE:America/Detroit
BEGIN:VEVENT
UID:11530@cranbrookartmuseum.org
DTSTART;TZID=America/Detroit;VALUE=DATE:20251004
DTEND;TZID=America/Detroit;VALUE=DATE:20251005
DTSTAMP:20250717T163514Z
URL:https://cranbrookartmuseum.org/events/crandemonium-2025/
SUMMARY:Crandemonium 2025
DESCRIPTION:\nJoin Cranbrook Art Museum and Cranbrook Academy of Art for C
 randemonium\, our signature fall fundraiser celebrating Cranbrook’s last
 ing impact on the cultural landscape of Detroit and beyond.\nThis high-ene
 rgy evening kicks off with an exclusive first look at a landmark exhibitio
 n featuring select works from Jennifer Gilbert’s private art collection\
 , hosted at The Shepherd ahead of its public debut.\nSponsors at the $10\,
 000 level and above are invited for the Sponsor’s Preview and will join 
 co-curators Nick Cave (MFA Fiber 1989) and Laura Mott\, Chief Curator of C
 ranbrook Art Museum\, for a private curator-led tour.\nExhibition Preview 
 and Dinner guests will enjoy early access to the exhibition during a vibra
 nt strolling dinner in the gallery.\nThe celebration continues just across
  the street with Art After Dark at Stanton Yard—featuring a live DJ\, da
 ncing\, dessert\, and an art installation.\nFor sponsorship opportunities\
 , please contact Caryn Emmer at cemmer@cranbrook.edu.
ATTACH;FMTTYPE=image/jpeg:https://cranbrookartmuseum.org/wp-content/upload
 s/2025/06/CrandemoniumWordmarkHorizontal.png
CATEGORIES:Fundraiser
LOCATION:The Shepherd and Stanton Yard\, Little Village\, 1265 Parkview St\
 , Detroit\, MI\, 48214\, United States
X-APPLE-STRUCTURED-LOCATION;VALUE=URI;X-ADDRESS=1265 Parkview St\, Detroit\
 , MI\, 48214\, United States;X-APPLE-RADIUS=100;X-TITLE=The Shepherd and S
 tanton Yard\, Little Village:geo:0,0
END:VEVENT
BEGIN:VTIMEZONE
TZID:America/Detroit
X-LIC-LOCATION:America/Detroit
BEGIN:DAYLIGHT
DTSTART:20250309T030000
TZOFFSETFROM:-0500
TZOFFSETTO:-0400
TZNAME:EDT
END:DAYLIGHT
END:VTIMEZONE
END:VCALENDAR