BEGIN:VCALENDAR
VERSION:2.0
PRODID:-//wp-events-plugin.com//7.2.3.1//EN
TZID:America/Detroit
X-WR-TIMEZONE:America/Detroit
BEGIN:VEVENT
UID:11536@cranbrookartmuseum.org
DTSTART;TZID=America/Detroit:20250905T173000
DTEND;TZID=America/Detroit:20250905T183000
DTSTAMP:20250811T150958Z
URL:https://cranbrookartmuseum.org/events/curator-led-tour-eventually-ever
 ything-connects-9-5-copy/
SUMMARY:Curator-Led Tour: Eventually Everything Connects - SOLD OUT
DESCRIPTION:*This tour was originally scheduled for 5pm\, but has been adju
 sted to 5:30pm*\n\nJoin us for a curator-led tour of Eventually Everything
  Connects: Mid-Century Modern Design in the US\, guided by our MillerKnoll
  Curatorial Fellow\, Bridget Bartal. The exhibition’s title is drawn fro
 m a quote by Cranbrook alumnus and teacher Charles Eames: “Eventually ev
 erything connects: people\, ideas\, objects.” Exploring the relationship
 s between these three fundamental pillars\, the exhibition contains some 2
 00 works by nearly 100 designers.  \n\nOn the tour\, you'll be guided th
 rough this large-scale survey of mid-century modern design\, focusing part
 icularly on the women\, LGBTQ+ individuals\, and designers of color who co
 ntributed to this ever-iconic movement. \n\nPlease plan to arrive no late
 r than 4:45pm to participate in this tour. Ticketholders arriving after 5p
 m will not be admitted to the museum. Tours meet in Main Gallery\, at the 
 entrance to the exhibition.  
ATTACH;FMTTYPE=image/jpeg:https://cranbrookartmuseum.org/wp-content/upload
 s/2025/05/CAM-2024.6_1-1-scaled-e1746466986661.jpg
CATEGORIES:Eventually Everything Connects: Mid-Century Design in the
 US,Eventually Everything Connects: Mid-Century Modern Design in the
 US,Tours
LOCATION:Cranbrook Art Museum\, 39221 Woodward Ave\, Box 801\, Bloomfield H
 ills\, MI\, 48303\, United States
GEO:42.5727665;-83.25051710000002
X-APPLE-STRUCTURED-LOCATION;VALUE=URI;X-ADDRESS=39221 Woodward Ave\, Box 80
 1\, Bloomfield Hills\, MI\, 48303\, United States;X-APPLE-RADIUS=100;X-TIT
 LE=Cranbrook Art Museum:geo:42.5727665,-83.25051710000002
END:VEVENT
BEGIN:VTIMEZONE
TZID:America/Detroit
X-LIC-LOCATION:America/Detroit
BEGIN:DAYLIGHT
DTSTART:20250309T030000
TZOFFSETFROM:-0500
TZOFFSETTO:-0400
TZNAME:EDT
END:DAYLIGHT
END:VTIMEZONE
END:VCALENDAR