BEGIN:VCALENDAR
VERSION:2.0
PRODID:-//wp-events-plugin.com//7.2.3.1//EN
TZID:America/Detroit
X-WR-TIMEZONE:America/Detroit
BEGIN:VEVENT
UID:10051@cranbrookartmuseum.org
DTSTART:20190301T180000Z
DTEND:20190301T190000Z
DTSTAMP:20260122T072803Z
URL:https://cranbrookartmuseum.org/events/daniel-arsham-lecture/
SUMMARY:Lecture: Daniel Arsham
DESCRIPTION:Daniel Arsham is a New York-based artist who works across the f
 ields of art\, architecture\, film\, and performance. His work has been pr
 esented at High Museum of Art\, Atlanta\; MoMA PS1\, New York\; and The Ne
 w Museum\, New York\, among others\; and is in the collections of the Pér
 ez Art Museum\, Miami\; the Walker Art Center\, Minneapolis\; and the Cent
 re Pompidou\, Paris. Arsham will discuss his work\, including his exhibiti
 on The Source: A Catalog of Late-20th-Century American Relics\, which open
 s the same day at Cranbrook Art Museum.\n\nIn 2008\, along with Alex Musto
 nen\, Arsham also co-founded Snarkitecture\, a collaborative practice know
 n for using everyday materials in unexpected ways to create captivating pu
 blic installations. On March 1\, they will open their latest project\, The
  Beach Detroit\, in downtown Detroit near Campus Martius. Consisting of ov
 er one million recyclable\, microbial balls\, visitors can swim or spectat
 e within the work. For more information about The Beach Detroit\, please e
 mail info@lscgallery.com.\n\nLecture is 6-7\, with the opening reception a
 fterwards.\nThe lecture is free. No pre-registration is required. Seating 
 will be on a first-come\, first-seated basis.
ATTACH;FMTTYPE=image/jpeg:https://cranbrookartmuseum.org/wp-content/upload
 s/2019/02/Daniel-Arsham-portrait.jpg
CATEGORIES:Daniel Arsham,Events,Lectures + Talks,Member Events
LOCATION:Cranbrook Art Museum\, Upper Galleries\, 39221 Woodward Ave\, Bloo
 mfield Hills\, MI\, 48303\, United States
GEO:42.5841626;-83.243155
X-APPLE-STRUCTURED-LOCATION;VALUE=URI;X-ADDRESS=39221 Woodward Ave\, Bloomf
 ield Hills\, MI\, 48303\, United States;X-APPLE-RADIUS=100;X-TITLE=Cranbro
 ok Art Museum\, Upper Galleries:geo:42.5841626,-83.243155
END:VEVENT
END:VCALENDAR