BEGIN:VCALENDAR
VERSION:2.0
PRODID:-//wp-events-plugin.com//7.2.3.1//EN
TZID:America/Detroit
X-WR-TIMEZONE:America/Detroit
BEGIN:VEVENT
UID:10010@cranbrookartmuseum.org
DTSTART:20181115T180000Z
DTEND:20181115T190000Z
DTSTAMP:20260122T072739Z
URL:https://cranbrookartmuseum.org/events/daniel-bozhkov/
SUMMARY:Daniel Bozhkov
DESCRIPTION:The work of Daniel Bozhkov involves acts of resistance to insti
 tutionalized homogenization\, aiming to be more infectious than disruptive
 . He uses a variety of media\, from fresco to performance and video\, and 
 often works with professionals from different fields to activate public sp
 ace. His projects are embedded in the worlds of genetic science\, departme
 nt mega-stores and world-famous tourist sites\, where he enters as an intr
 uder/visitor who produces new strains of meaning into seemingly closed sys
 tems. As a collaborator with reality\, he tries to set in motion a process
  of accelerated archeology that is faster than the institutions’ built-i
 n obsolescence.\n\nThis lecture is sponsored by the Print Media Department
 \nThis lecture is FREE.
ATTACH;FMTTYPE=image/jpeg:https://cranbrookartmuseum.org/wp-content/upload
 s/2018/09/2.-_89-db_vader-SMALL-copy.jpg
CATEGORIES:Events,Lectures + Talks
LOCATION:Cranbrook Art Museum deSalle Auditorium\, 39221 Woodward Ave.\, Bl
 oomfield Hills\, MI\, 48304\, United States
X-APPLE-STRUCTURED-LOCATION;VALUE=URI;X-ADDRESS=39221 Woodward Ave.\, Bloom
 field Hills\, MI\, 48304\, United States;X-APPLE-RADIUS=100;X-TITLE=Cranbr
 ook Art Museum deSalle Auditorium:geo:0,0
END:VEVENT
END:VCALENDAR