BEGIN:VCALENDAR
VERSION:2.0
PRODID:-//wp-events-plugin.com//7.2.3.1//EN
TZID:America/Detroit
X-WR-TIMEZONE:America/Detroit
BEGIN:VEVENT
UID:11362@cranbrookartmuseum.org
DTSTART;TZID=America/Detroit:20241114T183000
DTEND;TZID=America/Detroit:20241114T200000
DTSTAMP:20260122T072243Z
URL:https://cranbrookartmuseum.org/events/detroit-as-resource-art-of-post-
 riot-city/
SUMMARY:Detroit as Resource: Reflections on the Art of a Post-Riot City
DESCRIPTION:Join us for a series of talks with artists\, gallerists and De
 troiters in conjunction with the exhibition How We Make the Planet Move: 
 The Detroit Collection Part I (October 26\, 2024 – March 2\, 2025)\, th
 e debut of Cranbrook Art Museum’s new permanent collection devoted to ce
 lebrating and preserving the work of artists and designers in the metro De
 troit area—its first new collection in decades.   \nAt the same time\
 , the Art Museum dedicated funds to acquire more works by women\, artists 
 of color\, and LGBTQ+ identified individuals in a project to diversify its
  permanent collection. Designed to acknowledge the long-standing history o
 f artists who have called Detroit home and the area’s rich and diverse c
 ommunity of practitioners\, the Detroit Collection is particularly focused
  on art from the 1960s to the present in a variety of media.   \nThe fi
 rst talk in the series focuses on a slice of time in the Detroit art scene
 \, beginning in the late 1960s. The Cass Corridor Movement\, which emerged
  as an artistic reaction to Detroit’s post-1967 riots\, is characterized
  by the resourceful use of materials by local artists from the early 1970s
 . However\, many other artists of the time\, who were not considered part 
 of this loosely defined movement\, were also creating works that demonstra
 ted similar creativity\, including those working with Charles McGee’s Ga
 llery 7.\nDetroit as Resource: Reflections on the Art of a Post-Riot City 
 brings together in conversation Nancy Mitchnick – a celebrated painter a
 ffiliated with the Cass Corridor – and Carole Harris – an accomplished
  textile artist whose first solo show was with Gallery 7. The two artists
  will discuss the motivations and materiality of the time and the complex
 ities and limitations of categorizing artists through movements. Reflectio
 ns on the Art of a Post-Riot City will be moderated by Kat Goffnett\, Asso
 ciate Curator of Collections and curator of How We Make the Planet Move. 
 \nFree and open to all! RSVP FOR THE EVENT HERE
ATTACH;FMTTYPE=image/jpeg:https://cranbrookartmuseum.org/wp-content/upload
 s/2024/08/Harris-scaled.jpg
CATEGORIES:How We Make the Planet Move: The Detroit Collection Part
 I,Lectures + Talks
LOCATION:Cranbrook Art Museum\, 39221 Woodward Ave\, Box 801\, Bloomfield H
 ills\, MI\, 48303\, United States
GEO:42.5727665;-83.25051710000002
X-APPLE-STRUCTURED-LOCATION;VALUE=URI;X-ADDRESS=39221 Woodward Ave\, Box 80
 1\, Bloomfield Hills\, MI\, 48303\, United States;X-APPLE-RADIUS=100;X-TIT
 LE=Cranbrook Art Museum:geo:42.5727665,-83.25051710000002
END:VEVENT
BEGIN:VTIMEZONE
TZID:America/Detroit
X-LIC-LOCATION:America/Detroit
BEGIN:STANDARD
DTSTART:20241103T010000
TZOFFSETFROM:-0400
TZOFFSETTO:-0500
TZNAME:EST
END:STANDARD
END:VTIMEZONE
END:VCALENDAR