BEGIN:VCALENDAR
VERSION:2.0
PRODID:-//wp-events-plugin.com//7.2.3.1//EN
TZID:America/Detroit
X-WR-TIMEZONE:America/Detroit
BEGIN:VEVENT
UID:9976@cranbrookartmuseum.org
DTSTART:20180804T140000Z
DTEND:20180804T170000Z
DTSTAMP:20260122T072200Z
URL:https://cranbrookartmuseum.org/events/detroit-punk/
SUMMARY:Punk Rock in Detroit
DESCRIPTION:Third Man Records Cass Corridor presents a night of Detroit pun
 k history in partnership with the Cranbrook Art Museum's "Too Fast to Live
 \, Too Young to Die: Punk Graphics\, 1976-1986" summer 2018 exhibit. Join 
 local author\, artist\, and radio host Rob St. Mary and panelists for a co
 nversation about punk rock in Detroit. From Bookie's Club 870 to the Freez
 er Theatre and beyond\, hear from those who were there\, see footage from 
 behind the scenes\, and celebrate what still reverberates today. The night
  will also include clips of the upcoming doc "Dope\, Hookers\, and Pavemen
 t: The Real and Imagined History of Detroit Hard Core" and "Face the 80s."
 \n\nThe panel consists of some of Detroit's best story tellers and contrib
 utors to Detroit's history of punk and hardcore:\n\n• Otto Buj - "Dope\,
  Hookers\, and Pavement: The Real and Imagined History of Detroit Hard Cor
 e"\n• Dana Novak - "Face the 80s"\n• Tesco Vee - Touch and Go Records\
 n• Corey Rusk - Touch and Go Records\n• Gary Reichel - Tremor Records\
 , Cinecyde\n• Carolyn Striho - The Cubes\n• Andy Wendler - Necros
ATTACH;FMTTYPE=image/jpeg:https://cranbrookartmuseum.org/wp-content/upload
 s/2018/06/Freezer-Theatre.jpeg
CATEGORIES:Lectures + Talks,Too Fast to Live, Too Young to Die: Punk
 Graphics, 1976-1986
LOCATION:Third Man Records\, 441 w. canfield\, detroit\, MI\, 48201\, Unite
 d States
X-APPLE-STRUCTURED-LOCATION;VALUE=URI;X-ADDRESS=441 w. canfield\, detroit\,
  MI\, 48201\, United States;X-APPLE-RADIUS=100;X-TITLE=Third Man Records:g
 eo:0,0
END:VEVENT
END:VCALENDAR