BEGIN:VCALENDAR
VERSION:2.0
PRODID:-//wp-events-plugin.com//7.2.3.1//EN
TZID:America/Detroit
X-WR-TIMEZONE:America/Detroit
BEGIN:VEVENT
UID:10053@cranbrookartmuseum.org
DTSTART:20190410T180000Z
DTEND:20190410T190000Z
DTSTAMP:20260122T072028Z
URL:https://cranbrookartmuseum.org/events/dirk-denison/
SUMMARY:Dirk Denison
DESCRIPTION:Dirk Denison\, FAIA\, architect\, educator\, and Cranbrook Scho
 ols graduate will discuss his new publication\, Dirk Denison 10 Houses\, f
 ocusing on his process and influences\, including his formative years at C
 ranbrook. Book signing to follow\, books available for purchase.\n\nThis l
 ecture is free.
ATTACH;FMTTYPE=image/jpeg:https://cranbrookartmuseum.org/wp-content/upload
 s/2019/02/Dirk-denison-architects.png
CATEGORIES:Events,Lectures + Talks
LOCATION:Cranbrook Art Museum\, 39221 Woodward Ave\, Box 801\, Bloomfield H
 ills\, MI\, 48303\, United States
GEO:42.5727665;-83.25051710000002
X-APPLE-STRUCTURED-LOCATION;VALUE=URI;X-ADDRESS=39221 Woodward Ave\, Box 80
 1\, Bloomfield Hills\, MI\, 48303\, United States;X-APPLE-RADIUS=100;X-TIT
 LE=Cranbrook Art Museum:geo:42.5727665,-83.25051710000002
END:VEVENT
END:VCALENDAR