BEGIN:VCALENDAR
VERSION:2.0
PRODID:-//wp-events-plugin.com//7.2.3.1//EN
TZID:America/Detroit
X-WR-TIMEZONE:America/Detroit
BEGIN:VEVENT
UID:11364@cranbrookartmuseum.org
DTSTART;TZID=America/Detroit:20241107T180000
DTEND;TZID=America/Detroit:20241107T200000
DTSTAMP:20241010T152053Z
URL:https://cranbrookartmuseum.org/events/educator-night/
SUMMARY:Educator Night
DESCRIPTION:Educators\, you're invited! Join us for an evening tour of our 
 newly opened exhibitions and explore our multidisciplinary field trip reso
 urces.\n\nThis relaxing evening is for all the hard-working teachers to lo
 ok at some interesting art\, enjoy a snack\, chat with fellow educators\, 
 make some art\, check out our Art Lab\, and discover the multi-disciplinar
 y tours and resources that we have to offer. This event is an open house a
 nd you are welcome at any time from 6-8pm in the Art Lab at Cranbrook Art 
 Museum.\n\nOpen to all educators\, pre-registration is required.\n\nSponso
 red by John R. Burger\n\nRegister Here
ATTACH;FMTTYPE=image/jpeg:https://cranbrookartmuseum.org/wp-content/upload
 s/2024/09/DSC9665-scaled-e1725481131384.jpg
CATEGORIES:Events
LOCATION:Cranbrook Art Museum\, 39221 Woodward Ave\, Box 801\, Bloomfield H
 ills\, MI\, 48303\, United States
GEO:42.5727665;-83.25051710000002
X-APPLE-STRUCTURED-LOCATION;VALUE=URI;X-ADDRESS=39221 Woodward Ave\, Box 80
 1\, Bloomfield Hills\, MI\, 48303\, United States;X-APPLE-RADIUS=100;X-TIT
 LE=Cranbrook Art Museum:geo:42.5727665,-83.25051710000002
END:VEVENT
BEGIN:VTIMEZONE
TZID:America/Detroit
X-LIC-LOCATION:America/Detroit
BEGIN:STANDARD
DTSTART:20241103T010000
TZOFFSETFROM:-0400
TZOFFSETTO:-0500
TZNAME:EST
END:STANDARD
END:VTIMEZONE
END:VCALENDAR