BEGIN:VCALENDAR
VERSION:2.0
PRODID:-//wp-events-plugin.com//7.2.3.1//EN
TZID:America/Detroit
X-WR-TIMEZONE:America/Detroit
BEGIN:VEVENT
UID:9987@cranbrookartmuseum.org
DTSTART:20181116T180000Z
DTEND:20181116T210000Z
DTSTAMP:20181031T153333Z
URL:https://cranbrookartmuseum.org/events/fall-exhibitions-preview-party/
SUMMARY:Fall Exhibitions Preview Party
DESCRIPTION:You are invited to join us for the opening reception of our fal
 l exhibitions!\nCranbrook Art Museum will open three exhibitions that show
 case the incredible range of alumni and Artists-in-Residence that have eme
 rged from Cranbrook Academy of Art and the significant impact they have ma
 de in the art world.\n\nThe exhibitions include:\nAnnabeth Rosen: Fired\, 
 Broken\, Gathered\, Heaped\nNovember 17 – March 10\, 2019\n\nBinion/Saar
 inen: A McArthur Binion Project\nNovember 17 – March 10\, 2019\n\nDaniel
 le Dean: A Portrait of True Red\nNovember 17 – January 6\, 2019\nConvers
 ation with Annabeth Rosen and Valerie Cassel Oliver\n5-6pm\nFREE\nArtMembe
 rs-Only Reception\n6-7pm\nIncludes complimentary cocktail. Cash bar and ap
 petizers will be available. Memberships may be purchased at the door.\nPub
 lic Opening Reception\n7-9pm\n$25 non-members\nCash bar
ATTACH;FMTTYPE=image/jpeg:https://cranbrookartmuseum.org/wp-content/upload
 s/2018/08/43.-UNTITLED-_100-2005-6-18-x-19-x-19.png
CATEGORIES:Annabeth Rosen,Binion/Saarinen,Danielle Dean,Events
LOCATION:Cranbrook Art Museum\, 39221 Woodward Ave\, Box 801\, Bloomfield H
 ills\, MI\, 48303\, United States
GEO:42.5727665;-83.25051710000002
X-APPLE-STRUCTURED-LOCATION;VALUE=URI;X-ADDRESS=39221 Woodward Ave\, Box 80
 1\, Bloomfield Hills\, MI\, 48303\, United States;X-APPLE-RADIUS=100;X-TIT
 LE=Cranbrook Art Museum:geo:42.5727665,-83.25051710000002
END:VEVENT
END:VCALENDAR