BEGIN:VCALENDAR
VERSION:2.0
PRODID:-//wp-events-plugin.com//7.2.3.1//EN
TZID:America/Detroit
X-WR-TIMEZONE:America/Detroit
BEGIN:VEVENT
UID:10524@cranbrookartmuseum.org
DTSTART;TZID=America/Detroit:20220820T110000
DTEND;TZID=America/Detroit:20220820T150000
DTSTAMP:20220810T133330Z
URL:https://cranbrookartmuseum.org/events/family-day-2022-08-20/
SUMMARY:Family Day
DESCRIPTION:Every third Saturday of the month this summer is Family Day at 
 Cranbrook Art Museum. Join us in activities for visitors of all ages. Expl
 ore and experience art and design through hands-on\, minds-on activities. 
 Themes change monthly and serve as inspiration for art-making\, sculpture 
 scavenger hunts\, kid-friendly tours\, and conversations. Explore the gall
 eries through guided activities and get your hands messy with educators in
  the Art Lab. Imagine\, build\, and create at a variety of art-making stat
 ions.\n\nFree with Gallery admission. Reserve admission online.\n\nDue to 
 the high traffic expected for the Woodward Dream Cruise\, we highly recomm
 end you utilize the Lone Pine/Academy Way entrance when visiting the museu
 m throughout the weekend.\n\n
ATTACH;FMTTYPE=image/jpeg:https://cranbrookartmuseum.org/wp-content/upload
 s/2022/05/family-day-at-CAM.jpg
CATEGORIES:Family
LOCATION:Cranbrook Art Museum\, Art Lab\, 39221 Woodward Ave.\, Bloomfield 
 Hills\, MI\, 48304\, United States
X-APPLE-STRUCTURED-LOCATION;VALUE=URI;X-ADDRESS=39221 Woodward Ave.\, Bloom
 field Hills\, MI\, 48304\, United States;X-APPLE-RADIUS=100;X-TITLE=Cranbr
 ook Art Museum\, Art Lab:geo:0,0
END:VEVENT
BEGIN:VTIMEZONE
TZID:America/Detroit
X-LIC-LOCATION:America/Detroit
BEGIN:DAYLIGHT
DTSTART:20220313T030000
TZOFFSETFROM:-0500
TZOFFSETTO:-0400
TZNAME:EDT
END:DAYLIGHT
END:VTIMEZONE
END:VCALENDAR