BEGIN:VCALENDAR
VERSION:2.0
PRODID:-//wp-events-plugin.com//7.2.3.1//EN
TZID:America/Detroit
X-WR-TIMEZONE:America/Detroit
BEGIN:VEVENT
UID:11750@cranbrookartmuseum.org
DTSTART;TZID=America/Detroit:20260228T110000
DTEND;TZID=America/Detroit:20260228T150000
DTSTAMP:20260212T204348Z
URL:https://cranbrookartmuseum.org/events/family-day-dreaming-of-spring/
SUMMARY:Family Day: Dreaming of Spring
DESCRIPTION:Scare those Winter blues away with a relaxing museum after
 noon dreaming of spring! Artists of all ages can stop at the Family Da
 y Florist Shop to create spring flowers for their own unique bouque
 t. Explore a behind-the-scenes look at preparing and packing sculptures
  into shipping crates. Take a rest under the magical strawberry tree and
  create a beaded berry. Design dreamy mobiles in the Art Lab to gaze
  at as you doze at night. Snacks and beverages will be available for pur
 chase at the FIKA café. \n\n \n\nOpen to all\, activities are included 
 with museum admission\, ArtMembers\, and youth 12 and under are free. Adva
 nce admission purchase encouraged.
ATTACH;FMTTYPE=image/jpeg:https://cranbrookartmuseum.org/wp-content/upload
 s/2026/01/ArtLab-Family-Workshop.jpg
CATEGORIES:Events
LOCATION:Cranbrook Art Museum\, 39221 Woodward Ave\, Box 801\, Bloomfield H
 ills\, MI\, 48303\, United States
GEO:42.5727665;-83.25051710000002
X-APPLE-STRUCTURED-LOCATION;VALUE=URI;X-ADDRESS=39221 Woodward Ave\, Box 80
 1\, Bloomfield Hills\, MI\, 48303\, United States;X-APPLE-RADIUS=100;X-TIT
 LE=Cranbrook Art Museum:geo:42.5727665,-83.25051710000002
END:VEVENT
BEGIN:VTIMEZONE
TZID:America/Detroit
X-LIC-LOCATION:America/Detroit
BEGIN:STANDARD
DTSTART:20251102T010000
TZOFFSETFROM:-0400
TZOFFSETTO:-0500
TZNAME:EST
END:STANDARD
END:VTIMEZONE
END:VCALENDAR