BEGIN:VCALENDAR
VERSION:2.0
PRODID:-//wp-events-plugin.com//7.2.3.1//EN
TZID:America/Detroit
X-WR-TIMEZONE:America/Detroit
BEGIN:VEVENT
UID:10038@cranbrookartmuseum.org
DTSTART:20190209T110000Z
DTEND:20190209T140000Z
DTSTAMP:20181218T152558Z
URL:https://cranbrookartmuseum.org/events/family-day-hearts-for-art/
SUMMARY:Family Day: Hearts for Art!
DESCRIPTION:Show your love for art with Hearts for Art! Drop in to explore 
 studio offerings through hands-on artmaking in our interactive learning sp
 ace. Teaching artists will provide instruction and materials. Free for Art
 Members and with gallery admission.
ATTACH;FMTTYPE=image/jpeg:https://cranbrookartmuseum.org/wp-content/upload
 s/2018/01/CAM-2017-Hearts-for-Art-4393-scaled.jpg
CATEGORIES:Events,Family,Workshops
LOCATION:Cranbrook Art Museum\, 39221 Woodward Ave\, Box 801\, Bloomfield H
 ills\, MI\, 48303\, United States
GEO:42.5727665;-83.25051710000002
X-APPLE-STRUCTURED-LOCATION;VALUE=URI;X-ADDRESS=39221 Woodward Ave\, Box 80
 1\, Bloomfield Hills\, MI\, 48303\, United States;X-APPLE-RADIUS=100;X-TIT
 LE=Cranbrook Art Museum:geo:42.5727665,-83.25051710000002
END:VEVENT
END:VCALENDAR