BEGIN:VCALENDAR
VERSION:2.0
PRODID:-//wp-events-plugin.com//7.2.3.1//EN
TZID:America/Detroit
X-WR-TIMEZONE:America/Detroit
BEGIN:VEVENT
UID:11702@cranbrookartmuseum.org
DTSTART;TZID=America/Detroit:20260516T133000
DTEND;TZID=America/Detroit:20260516T150000
DTSTAMP:20251002T195145Z
URL:https://cranbrookartmuseum.org/events/family-workshop-printing-posters
 -graphic-designer-stephen-frykholm/
SUMMARY:Family Workshop - Printing Posters: Inspired by Graphic Designer St
 ephen Frykholm
DESCRIPTION:Looking for a fun and creative family activity? Join us once a 
 month on Saturdays for an interactive tour in the museum galleries or vaul
 t followed by an artist-led workshop.   \n\nSelect Saturdays from 1:3
 0-3pm\, $15 per participant\, intended for families with children 4-16\, p
 re-registration is required through our website\, all materials are provid
 ed. \n\n&nbsp\;\n\nUpcoming Family Workshops: \n\nMay 16 – Printing P
 osters: Inspired by Graphic Designer Stephen Frykholm\nDesign and print vi
 brant posters paying tribute to the bold graphic style of Stephen Frykholm
 . \n\n&nbsp\;
ATTACH;FMTTYPE=image/jpeg:https://cranbrookartmuseum.org/wp-content/upload
 s/2024/09/DSC09163-2-scaled-e1725378912117.jpg
CATEGORIES:Education,Family,Workshops
LOCATION:Cranbrook Art Museum\, 39221 Woodward Ave\, Box 801\, Bloomfield H
 ills\, MI\, 48303\, United States
GEO:42.5727665;-83.25051710000002
X-APPLE-STRUCTURED-LOCATION;VALUE=URI;X-ADDRESS=39221 Woodward Ave\, Box 80
 1\, Bloomfield Hills\, MI\, 48303\, United States;X-APPLE-RADIUS=100;X-TIT
 LE=Cranbrook Art Museum:geo:42.5727665,-83.25051710000002
END:VEVENT
BEGIN:VTIMEZONE
TZID:America/Detroit
X-LIC-LOCATION:America/Detroit
BEGIN:DAYLIGHT
DTSTART:20260308T030000
TZOFFSETFROM:-0500
TZOFFSETTO:-0400
TZNAME:EDT
END:DAYLIGHT
END:VTIMEZONE
END:VCALENDAR