BEGIN:VCALENDAR
VERSION:2.0
PRODID:-//wp-events-plugin.com//7.2.3.1//EN
TZID:America/Detroit
X-WR-TIMEZONE:America/Detroit
BEGIN:VEVENT
UID:11503@cranbrookartmuseum.org
DTSTART;TZID=America/Detroit:20250517T133000
DTEND;TZID=America/Detroit:20250517T150000
DTSTAMP:20250423T140329Z
URL:https://cranbrookartmuseum.org/events/family-workshops-2025-05-17-2/
SUMMARY:Family Workshop: Painting: Explorations of Shape and Color
DESCRIPTION:Looking for a fun and creative family activity? Join us during 
 Family Workshops for an interactive tour in the museum or Collections Wing
  Plaza Vault followed by an artist-led workshop!\n\nApril 12– Spring Flo
 ral Paintings: Let’s welcome the spring by painting a bounty of flowers\
 , from tulips to cherry blossoms\, perfect for shaking off those winter bl
 ues.\n\nMay 17– Painting: Explorations of Shape and Color: Experiment wi
 th colors and shapes as we get inspired by abstraction greats like Joseph 
 Albers and Joan Mitchell!\n\nJuly 19– Textile Designers: Textile Designe
 rs featured in our exhibition Eventually Everything Connects are masters 
 at creating unique patterns and color combinations. We will become designe
 rs in the studio\, printing on our own textiles.\n\n&nbsp\;\n\n$15 per par
 ticipant\, intended for families with children 4-12\, pre-registration is 
 required.
ATTACH;FMTTYPE=image/jpeg:https://cranbrookartmuseum.org/wp-content/upload
 s/2024/09/DSC09163-2-scaled-e1725378912117.jpg
CATEGORIES:Family,Workshops
LOCATION:Cranbrook Art Museum\, 39221 Woodward Ave\, Box 801\, Bloomfield H
 ills\, MI\, 48303\, United States
GEO:42.5727665;-83.25051710000002
X-APPLE-STRUCTURED-LOCATION;VALUE=URI;X-ADDRESS=39221 Woodward Ave\, Box 80
 1\, Bloomfield Hills\, MI\, 48303\, United States;X-APPLE-RADIUS=100;X-TIT
 LE=Cranbrook Art Museum:geo:42.5727665,-83.25051710000002
END:VEVENT
BEGIN:VTIMEZONE
TZID:America/Detroit
X-LIC-LOCATION:America/Detroit
BEGIN:DAYLIGHT
DTSTART:20250309T030000
TZOFFSETFROM:-0500
TZOFFSETTO:-0400
TZNAME:EDT
END:DAYLIGHT
END:VTIMEZONE
END:VCALENDAR