BEGIN:VCALENDAR
VERSION:2.0
PRODID:-//wp-events-plugin.com//7.2.3.1//EN
TZID:America/Detroit
X-WR-TIMEZONE:America/Detroit
BEGIN:VEVENT
UID:8623@cranbrookartmuseum.org
DTSTART:20171007T130000Z
DTEND:20171007T153000Z
DTSTAMP:20170911T225653Z
URL:https://cranbrookartmuseum.org/events/film-screening-columbus/
SUMMARY:Film Screening: Columbus
DESCRIPTION:Join us for a screening of Columbus\, the feature directorial d
 ebut of filmmaker Kogonada\, which premiered to acclaim at the Sundance Fi
 lm Festival earlier this year. The film is set in the city of Columbus\, I
 ndiana\, home to world-class architecture and public art with buildings by
  Eero Saarinen\, Harry Weese\, Kevin Roche\, and I.M. Pei.\n\nShelley Seli
 m\, Associate Curator of Design and Decorative Arts at Indianapolis Museum
  of Art\, will provide an introduction to the city of Columbus\, Indiana. 
 She will examine how a small Midwestern city became a hub of Mid-century a
 rchitecture - highlighting some of the region’s most iconic buildings.\n
 \n\n\n
ATTACH;FMTTYPE=image/jpeg:https://cranbrookartmuseum.org/wp-content/upload
 s/2017/08/Columbus-small.jpg
CATEGORIES:Events
LOCATION:Cranbrook Art Museum\, 39221 Woodward Ave\, Box 801\, Bloomfield H
 ills\, MI\, 48303\, United States
GEO:42.5727665;-83.25051710000002
X-APPLE-STRUCTURED-LOCATION;VALUE=URI;X-ADDRESS=39221 Woodward Ave\, Box 80
 1\, Bloomfield Hills\, MI\, 48303\, United States;X-APPLE-RADIUS=100;X-TIT
 LE=Cranbrook Art Museum:geo:42.5727665,-83.25051710000002
END:VEVENT
END:VCALENDAR