BEGIN:VCALENDAR
VERSION:2.0
PRODID:-//wp-events-plugin.com//7.2.3.1//EN
TZID:America/Detroit
X-WR-TIMEZONE:America/Detroit
BEGIN:VEVENT
UID:10244@cranbrookartmuseum.org
DTSTART:20191102T130000Z
DTEND:20191102T143000Z
DTSTAMP:20191101T143858Z
URL:https://cranbrookartmuseum.org/events/film-screening-the-price-of-ever
 ything/
SUMMARY:Film Screening: The Price of Everything
DESCRIPTION:The Price of Everything dives deep into the contemporary art wo
 rld\, exploring the roles of art and artistic passion in today’s money-d
 riven\, consumer-based society--exposing deep contradictions as it holds a
  mirror up to contemporary values and times. The firm offers unprecedented
  access to collectors\, dealers\, and artists though interviews including 
 Mary Boone\, Gavin Brown\, Amy Cappellazzo\, Njideka Akunyili Crosby\, Jef
 f Koons\, Marilyn Minter\, Simone de Pury\, Gerhard Richter\, and many oth
 ers.\n\nFim screenings are held in deSalle Auditorium and are free and ope
 n to the public.
ATTACH;FMTTYPE=image/jpeg:https://cranbrookartmuseum.org/wp-content/upload
 s/2019/10/The-Price-of-Everything.png
CATEGORIES:Film Screenings
LOCATION:Cranbrook Art Museum\, 39221 Woodward Ave\, Box 801\, Bloomfield H
 ills\, MI\, 48303\, United States
GEO:42.5727665;-83.25051710000002
X-APPLE-STRUCTURED-LOCATION;VALUE=URI;X-ADDRESS=39221 Woodward Ave\, Box 80
 1\, Bloomfield Hills\, MI\, 48303\, United States;X-APPLE-RADIUS=100;X-TIT
 LE=Cranbrook Art Museum:geo:42.5727665,-83.25051710000002
END:VEVENT
END:VCALENDAR