BEGIN:VCALENDAR
VERSION:2.0
PRODID:-//wp-events-plugin.com//7.2.3.1//EN
TZID:America/Detroit
X-WR-TIMEZONE:America/Detroit
BEGIN:VEVENT
UID:10068@cranbrookartmuseum.org
DTSTART:20190415T180000Z
DTEND:20190415T190000Z
DTSTAMP:20190215T182408Z
URL:https://cranbrookartmuseum.org/events/frank-fantauzzi/
SUMMARY:Frank Fantauzzi
DESCRIPTION:Frank Fantauzzi (Architecture ‘87) is the Department Chair
  of MICA's Architectural Design department. He is a 1987 graduate of the
  Academy\, and has taught in numerous programs in Canada\, the United Stat
 es\, and Finland. His research focuses on the question of alternative for
 ms of critical architectural practice. Parallel to teaching\, Fantauzzi 
 has also been engaged in an active art practice. His work is often collabo
 rative and focuses on large-scale installations and outdoor constructions 
 and has been exhibited and published internationally. The work is multi
 disciplinary in nature and probes the built environment to explore the cul
 tural dimensions of society and the parallels between social and tectonic 
 structures. He is a founding member of the icebergproject.org collabor
 ative. \n\n \n\nSponsored by the Architecture Department
ATTACH;FMTTYPE=image/jpeg:https://cranbrookartmuseum.org/wp-content/upload
 s/2019/02/JCY_FF_RAWGALLEY_RAW-1_900.jpg
CATEGORIES:Events,Lectures + Talks
LOCATION:Cranbrook Art Museum\, 39221 Woodward Ave\, Box 801\, Bloomfield H
 ills\, MI\, 48303\, United States
GEO:42.5727665;-83.25051710000002
X-APPLE-STRUCTURED-LOCATION;VALUE=URI;X-ADDRESS=39221 Woodward Ave\, Box 80
 1\, Bloomfield Hills\, MI\, 48303\, United States;X-APPLE-RADIUS=100;X-TIT
 LE=Cranbrook Art Museum:geo:42.5727665,-83.25051710000002
END:VEVENT
END:VCALENDAR