BEGIN:VCALENDAR
VERSION:2.0
PRODID:-//wp-events-plugin.com//7.2.3.1//EN
TZID:America/Detroit
X-WR-TIMEZONE:America/Detroit
BEGIN:VEVENT
UID:6065@cranbrookartmuseum.org
DTSTART:20160521T150000Z
DTEND:20160521T160000Z
DTSTAMP:20160811T020316Z
URL:https://cranbrookartmuseum.org/events/frank-lloyd-wrights-smith-house-
 2-2016-05-21/
SUMMARY:Frank Lloyd Wright's Smith House
DESCRIPTION:School teachers Sara Stein Smith and Melvyn Maxwell Smith\, und
 eterred by their modest salaries and guided by a shared love of architectu
 re\, met Frank Lloyd Wright at his Taliesin studio in 1941 and commissione
 d a custom home. The Smith House in Bloomfield Hills is an excellent examp
 le of Wright’s Usonian ideal which aimed to build quality houses for the
  American middle class. The lovingly restored home\, which Wright called 
 “My Little Gem” during a 1951 visit\, features an L-shaped floor plan 
 and horizontal\, cantilevered roof planes. This tour offers a unique view 
 of this special home\, its landscape\, and the story of a couple whose vis
 ion and determination allowed them to achieve their dream. \n\n[wpv-view n
 ame="tour-details-smith-house-public" limit="1"]
ATTACH;FMTTYPE=image/jpeg:https://cranbrookartmuseum.org/wp-content/upload
 s/2016/04/FLW-ext-rear-twilight-dc3.jpg
CATEGORIES:Tours
LOCATION:Cranbrook Art Museum\, 39221 Woodward Ave\, Box 801\, Bloomfield H
 ills\, MI\, 48303\, United States
GEO:42.5727665;-83.25051710000002
X-APPLE-STRUCTURED-LOCATION;VALUE=URI;X-ADDRESS=39221 Woodward Ave\, Box 80
 1\, Bloomfield Hills\, MI\, 48303\, United States;X-APPLE-RADIUS=100;X-TIT
 LE=Cranbrook Art Museum:geo:42.5727665,-83.25051710000002
END:VEVENT
END:VCALENDAR