BEGIN:VCALENDAR
VERSION:2.0
PRODID:-//wp-events-plugin.com//7.2.3.1//EN
TZID:America/Detroit
X-WR-TIMEZONE:America/Detroit
BEGIN:VEVENT
UID:238@cranbrookartmuseum.org
DTSTART:20161009T130000Z
DTEND:20161009T160000Z
DTSTAMP:20160908T234323Z
URL:https://cranbrookartmuseum.org/events/free-radicals-a-symposium/
SUMMARY:Free Radicals: A Symposium
DESCRIPTION:A special one-day symposium on Hippie Modernism’s themes.
ATTACH;FMTTYPE=image/jpeg:https://cranbrookartmuseum.org/wp-content/upload
 s/2016/05/CAM-Exhibition-Hippie-Modernism-_21_Stitch3.jpg
CATEGORIES:Events,Hippie Modernism,Lectures + Talks,Member Events
LOCATION:Cranbrook Art Museum deSalle Auditorium\, 39221 Woodward Ave.\, Bl
 oomfield Hills\, MI\, 48304\, United States
X-APPLE-STRUCTURED-LOCATION;VALUE=URI;X-ADDRESS=39221 Woodward Ave.\, Bloom
 field Hills\, MI\, 48304\, United States;X-APPLE-RADIUS=100;X-TITLE=Cranbr
 ook Art Museum deSalle Auditorium:geo:0,0
END:VEVENT
END:VCALENDAR