BEGIN:VCALENDAR
VERSION:2.0
PRODID:-//wp-events-plugin.com//7.2.3.1//EN
TZID:America/Detroit
X-WR-TIMEZONE:America/Detroit
BEGIN:VEVENT
UID:10937@cranbrookartmuseum.org
DTSTART;TZID=America/Detroit:20230817T110000
DTEND;TZID=America/Detroit:20230817T200000
DTSTAMP:20230828T185858Z
URL:https://cranbrookartmuseum.org/events/free-third-thursday-august/
SUMMARY:Free Third Thursday - August
DESCRIPTION:Every third Thursday\, from July 2023 through June 2024\, visit
 ors can receive free admission to Cranbrook Art Museum from 11am–8pm AND
  Cranbrook Institute of Science from 5–8pm. Cranbrook Art Museum remains
  free on all remaining Thursdays of each month. Visitors are requested to 
 register in advance to visit Cranbrook Institute of Science via their webs
 ite. Walk-ins are welcome\, but entrance is not guaranteed due to capacity
  limits.\nIn August\, visitors can participate in:\n\n\n 	Free Drop-in Scr
 een Printing: Create a screen-print on the Peristyle at Cranbrook Art Muse
 um from 5–6:30pm before the Poolside Performance.\n 	Free Poolside Perfo
 rmance: Debut of Na Bonsai’s graphic score series exploring archetypes 
 of human nature through the lens of awareness\, featuring guitar\, vocals\
 , sampling and textural instrumentation amid the verdant surroundings of t
 he Cranbrook Art Museum grounds near the Triton Pool from 6:30-7:30pm. RS
 VP recommended.\n 	Free Dynomite Trilobites: From 5 to 8pm\, Cranbrook Ins
 titute of Science guests will be able to get up close and even touch many 
 amazing trilobite fossils and casts. They will also encounter many of the 
 other animals that trilobites lived with such as the fearsome apex predato
 r Mixopterus!\n 	Free Trilobite Construction Make and Take: From 5 to 8pm\
 , Cranbrook Institute of Science guests can learn about the anatomy of a t
 rilobite while making a detailed model to take home.\n\nThe following acti
 vities are also available for an additional cost:\n\n\n 	Cranbrook on the 
 Green Artist-Designed Mini-Golf: Located on the grounds outside of Cranbr
 ook Art Museum. The last tickets will be sold at 7:15 p.m.\n 	Fika Lounge 
 Bar: Beer and wine available for purchase at Cranbrook Art Museum from 4:
 30–7:30 p.m.\n 	Acheson Planetarium: At Cranbrook Institute of Science\,
  catch the “Cosmic Mashup” show at 6:00 p.m. or the “Live Sky Show
 ” at 7:00 p.m. Tickets can be purchased at the front desk.\n\nFree Third
  Thursdays is a program sponsored by the Community Foundation for Southeas
 t Michigan.
ATTACH;FMTTYPE=image/jpeg:https://cranbrookartmuseum.org/wp-content/upload
 s/2022/09/Poolside-Performance.jpg
CATEGORIES:Family,Performance
LOCATION:Cranbrook Art Museum\, 39221 Woodward Ave\, Box 801\, Bloomfield H
 ills\, MI\, 48303\, United States
GEO:42.5727665;-83.25051710000002
X-APPLE-STRUCTURED-LOCATION;VALUE=URI;X-ADDRESS=39221 Woodward Ave\, Box 80
 1\, Bloomfield Hills\, MI\, 48303\, United States;X-APPLE-RADIUS=100;X-TIT
 LE=Cranbrook Art Museum:geo:42.5727665,-83.25051710000002
END:VEVENT
BEGIN:VTIMEZONE
TZID:America/Detroit
X-LIC-LOCATION:America/Detroit
BEGIN:DAYLIGHT
DTSTART:20230312T030000
TZOFFSETFROM:-0500
TZOFFSETTO:-0400
TZNAME:EDT
END:DAYLIGHT
END:VTIMEZONE
END:VCALENDAR