BEGIN:VCALENDAR
VERSION:2.0
PRODID:-//wp-events-plugin.com//7.2.3.1//EN
TZID:America/Detroit
X-WR-TIMEZONE:America/Detroit
BEGIN:VEVENT
UID:10057@cranbrookartmuseum.org
DTSTART:20190503T170000Z
DTEND:20190503T200000Z
DTSTAMP:20190429T155002Z
URL:https://cranbrookartmuseum.org/events/happy-hour-educators/
SUMMARY:Happy Hour: Educators
DESCRIPTION:The museum is open late for happy hour! Celebrate your favorite
  educators with all-ages art-making! Explore our current exhibitions\, le
 arn more about our school programs\, field trips\, and collaborations with
  local districts. Cash bar in the Art Lab. All educators get free admissio
 n!
ATTACH;FMTTYPE=image/jpeg:https://cranbrookartmuseum.org/wp-content/upload
 s/2018/08/Cranbrook_Summer_Camps2018_58.png
CATEGORIES:Events,Workshops
LOCATION:Cranbrook Art Museum\, 39221 Woodward Ave\, Box 801\, Bloomfield H
 ills\, MI\, 48303\, United States
GEO:42.5727665;-83.25051710000002
X-APPLE-STRUCTURED-LOCATION;VALUE=URI;X-ADDRESS=39221 Woodward Ave\, Box 80
 1\, Bloomfield Hills\, MI\, 48303\, United States;X-APPLE-RADIUS=100;X-TIT
 LE=Cranbrook Art Museum:geo:42.5727665,-83.25051710000002
END:VEVENT
END:VCALENDAR