BEGIN:VCALENDAR
VERSION:2.0
PRODID:-//wp-events-plugin.com//7.2.3.1//EN
TZID:America/Detroit
X-WR-TIMEZONE:America/Detroit
BEGIN:VEVENT
UID:10056@cranbrookartmuseum.org
DTSTART:20190308T170000Z
DTEND:20190308T200000Z
DTSTAMP:20190301T184645Z
URL:https://cranbrookartmuseum.org/events/happy-hour-still-life/
SUMMARY:Happy Hour: Still Life
DESCRIPTION:Experience the museum collection with drop-in drawing. Experime
 nt with a range of drawing materials and still life setups. Materials are 
 provided\, pencils only in the museum galleries.\nFree with museum admissi
 on. Cash bar.\n\n[Photo: Gertrud and Otto Natzler Tall Double-Curved Bottl
 e with Lip\, 1963 © The Nalzler Trust. Photograph by R. H. Hensleigh and 
 Tim Thayer.]
ATTACH;FMTTYPE=image/jpeg:https://cranbrookartmuseum.org/wp-content/upload
 s/2019/02/STILL-LIFE.png
CATEGORIES:Events,Workshops
LOCATION:Cranbrook Art Museum\, Upper Galleries\, 39221 Woodward Ave\, Bloo
 mfield Hills\, MI\, 48303\, United States
GEO:42.5841626;-83.243155
X-APPLE-STRUCTURED-LOCATION;VALUE=URI;X-ADDRESS=39221 Woodward Ave\, Bloomf
 ield Hills\, MI\, 48303\, United States;X-APPLE-RADIUS=100;X-TITLE=Cranbro
 ok Art Museum\, Upper Galleries:geo:42.5841626,-83.243155
END:VEVENT
END:VCALENDAR