BEGIN:VCALENDAR
VERSION:2.0
PRODID:-//wp-events-plugin.com//7.2.3.1//EN
TZID:America/Detroit
X-WR-TIMEZONE:America/Detroit
BEGIN:VEVENT
UID:70@cranbrookartmuseum.org
DTSTART:20160618T140000Z
DTEND:20160618T150000Z
DTSTAMP:20160623T204331Z
URL:https://cranbrookartmuseum.org/events/hippie-modernism-lecture-with-an
 drew-blauvelt/
SUMMARY:Hippie Modernism Lecture with Andrew Blauvelt
DESCRIPTION:Andrew Blauvelt\, Curator of "Hippie Modernism: The Struggle fo
 r Utopia" and Director of Cranbrook Art Museum\, will discuss the themes a
 nd issues surfaced in the exhibition during a lecture in deSalle Auditoriu
 m at Cranbrook Art Museum.
ATTACH;FMTTYPE=image/jpeg:https://cranbrookartmuseum.org/wp-content/upload
 s/2016/05/Drop_City_IMG00011_r-web.jpg
CATEGORIES:Events,Exhibitions,Hippie Modernism,Lectures + Talks
LOCATION:Cranbrook Art Museum\, 39221 Woodward Ave\, Box 801\, Bloomfield H
 ills\, MI\, 48303\, United States
GEO:42.5727665;-83.25051710000002
X-APPLE-STRUCTURED-LOCATION;VALUE=URI;X-ADDRESS=39221 Woodward Ave\, Box 80
 1\, Bloomfield Hills\, MI\, 48303\, United States;X-APPLE-RADIUS=100;X-TIT
 LE=Cranbrook Art Museum:geo:42.5727665,-83.25051710000002
END:VEVENT
END:VCALENDAR