BEGIN:VCALENDAR
VERSION:2.0
PRODID:-//wp-events-plugin.com//7.2.3.1//EN
TZID:America/Detroit
X-WR-TIMEZONE:America/Detroit
BEGIN:VEVENT
UID:9969@cranbrookartmuseum.org
DTSTART:20180504T153000Z
DTEND:20180504T163000Z
DTSTAMP:20180502T173052Z
URL:https://cranbrookartmuseum.org/events/huang-yangxing-select-artworks-o
 f-tibetan-buddhism/
SUMMARY:Huang Yangxing: Select Artworks of Tibetan Buddhism
DESCRIPTION:Sino-Tibetan Integration:\nA Perspective on the Qingbai Porcela
 in Statues of Jingdezhen in the Yuan Period and Tibetan Buddhism\n\n&nbsp\
 ;\n\nSponsored by the Cranbrook Academy of Art Metalsmithing Department
ATTACH;FMTTYPE=image/jpeg:https://cranbrookartmuseum.org/wp-content/upload
 s/2018/04/HuangYangxing-scaled.jpg
CATEGORIES:Lectures + Talks
LOCATION:Cranbrook Art Museum deSalle Auditorium\, 39221 Woodward Ave.\, Bl
 oomfield Hills\, MI\, 48304\, United States
X-APPLE-STRUCTURED-LOCATION;VALUE=URI;X-ADDRESS=39221 Woodward Ave.\, Bloom
 field Hills\, MI\, 48304\, United States;X-APPLE-RADIUS=100;X-TITLE=Cranbr
 ook Art Museum deSalle Auditorium:geo:0,0
END:VEVENT
END:VCALENDAR