BEGIN:VCALENDAR
VERSION:2.0
PRODID:-//wp-events-plugin.com//7.2.3.1//EN
TZID:America/Detroit
X-WR-TIMEZONE:America/Detroit
BEGIN:VEVENT
UID:6691@cranbrookartmuseum.org
DTSTART:20170420T140000Z
DTEND:20170420T150000Z
DTSTAMP:20170125T205227Z
URL:https://cranbrookartmuseum.org/events/jamillah-james/
SUMMARY:Jamillah James
DESCRIPTION:Sponsored by Studio Council
ATTACH;FMTTYPE=image/jpeg:https://cranbrookartmuseum.org/wp-content/upload
 s/2017/01/Jamillah-James_-photo-credit-Paul-Sepuya-2.jpg
CATEGORIES:Lectures + Talks
LOCATION:Cranbrook Art Museum deSalle Auditorium\, 39221 Woodward Ave.\, Bl
 oomfield Hills\, MI\, 48304\, United States
X-APPLE-STRUCTURED-LOCATION;VALUE=URI;X-ADDRESS=39221 Woodward Ave.\, Bloom
 field Hills\, MI\, 48304\, United States;X-APPLE-RADIUS=100;X-TITLE=Cranbr
 ook Art Museum deSalle Auditorium:geo:0,0
END:VEVENT
END:VCALENDAR