BEGIN:VCALENDAR
VERSION:2.0
PRODID:-//wp-events-plugin.com//7.2.3.1//EN
TZID:America/Detroit
X-WR-TIMEZONE:America/Detroit
BEGIN:VEVENT
UID:10009@cranbrookartmuseum.org
DTSTART:20181030T180000Z
DTEND:20181030T190000Z
DTSTAMP:20181005T151127Z
URL:https://cranbrookartmuseum.org/events/john-corso-esquivel-3/
SUMMARY:John Corso Esquivel
DESCRIPTION:“Matrixial Shadows in Gego’s Reticulárea”\nJohn Corso is
  the 2018-19 Critical Studies and Humanities Fellow at Cranbrook Academy o
 f Art. He is a tenured associate professor of art history at Oakland Unive
 rsity in Rochester\, Mich.\, where he is finishing a term as Doris and Pau
 l Travis professor. He holds a Ph.D. in the History of Art and Archaeology
  from Cornell University\, master’s degrees in art history from Cornell 
 and Tufts\, a Master of Fine Arts from The School of the Museum of Fine Ar
 ts at Tufts\, and a bachelor’s degree in art from Williams College.\nSpo
 nsored by the Critical Studies and Humanities Program\n\nThis event is FRE
 E.\nThis lecture is sponsored by the Critical Studies and Humanities Progr
 am.
ATTACH;FMTTYPE=image/jpeg:https://cranbrookartmuseum.org/wp-content/upload
 s/2018/09/01032-21.jpg
CATEGORIES:Events,Lectures + Talks
LOCATION:Cranbrook Art Museum deSalle Auditorium\, 39221 Woodward Ave.\, Bl
 oomfield Hills\, MI\, 48304\, United States
X-APPLE-STRUCTURED-LOCATION;VALUE=URI;X-ADDRESS=39221 Woodward Ave.\, Bloom
 field Hills\, MI\, 48304\, United States;X-APPLE-RADIUS=100;X-TITLE=Cranbr
 ook Art Museum deSalle Auditorium:geo:0,0
END:VEVENT
END:VCALENDAR