BEGIN:VCALENDAR
VERSION:2.0
PRODID:-//wp-events-plugin.com//7.2.3.1//EN
TZID:America/Detroit
X-WR-TIMEZONE:America/Detroit
BEGIN:VEVENT
UID:10064@cranbrookartmuseum.org
DTSTART:20190307T180000Z
DTEND:20190307T190000Z
DTSTAMP:20190301T145413Z
URL:https://cranbrookartmuseum.org/events/john-corso/
SUMMARY:John Corso
DESCRIPTION:"Notes on Damien Hirst's Pharmaceutical Works"\n\nCritical Stud
 ies Fellow John Corso Esquivel will offer an informal critic's talk about 
 his new book project\, Pharmaesthetics: Pill Culture in Contemporary Art. 
 John will discuss his preliminary research on Damien Hirst's pharmaceutica
 l works. Following Foucault's concept of the "medical gaze\," John will su
 ggest that Hirst's medicine cabinets take as their subject not living huma
 n bodies\, but the post-mortem corpse. In the European memento mori genre\
 , death was pictured to urge believers to follow a Christian moral life. H
 irst\, John will argue\, does not invoke death with those religious purpos
 es. Instead\, Hirst sets up an aesthetics rooted in anarchy and the insuff
 iciency of pharmacology to understand the human subject.\n\nSponsored by t
 he Critical Studies and Humanities Program
ATTACH;FMTTYPE=image/jpeg:https://cranbrookartmuseum.org/wp-content/upload
 s/2019/02/Screen-Shot-2019-02-15-at-9.41.08-AM.png
CATEGORIES:Events,Lectures + Talks
LOCATION:Cranbrook Art Museum\, 39221 Woodward Ave\, Box 801\, Bloomfield H
 ills\, MI\, 48303\, United States
GEO:42.5727665;-83.25051710000002
X-APPLE-STRUCTURED-LOCATION;VALUE=URI;X-ADDRESS=39221 Woodward Ave\, Box 80
 1\, Bloomfield Hills\, MI\, 48303\, United States;X-APPLE-RADIUS=100;X-TIT
 LE=Cranbrook Art Museum:geo:42.5727665,-83.25051710000002
END:VEVENT
END:VCALENDAR