BEGIN:VCALENDAR
VERSION:2.0
PRODID:-//wp-events-plugin.com//7.2.3.1//EN
TZID:America/Detroit
X-WR-TIMEZONE:America/Detroit
BEGIN:VEVENT
UID:10525@cranbrookartmuseum.org
DTSTART;TZID=America/Detroit:20220619T110000
DTEND;TZID=America/Detroit:20220619T170000
DTSTAMP:20220525T142522Z
URL:https://cranbrookartmuseum.org/events/juneteenth-free-gallery-admissio
 n/
SUMMARY:Juneteenth - Free Gallery Admission
DESCRIPTION:In celebration of the Juneteenth holiday\, Cranbrook Art Museum
  gallery admission will be free for all. Explore our current exhibitions i
 ncluding Tunde Olanrian: Made a Universe\, Tyrrell Winston: A Tiger's Stri
 pes\, and Whatever Gets You Through the Night: Selections from the Mott-Wa
 rsh Collection.\n\nCranbrook on the Green mini-golf will be regular price.
ATTACH;FMTTYPE=image/jpeg:https://cranbrookartmuseum.org/wp-content/upload
 s/2018/09/CAA-Campus-Spring-2016-PD-Rearick-HiRes-03_37.png
CATEGORIES:Tunde Olaniran: Made a Universe,Tyrrell Winston: A Tiger's
 Stripes,Whatever Gets You Through the Night: Selections from the
 Mott-Warsh Collection
LOCATION:Cranbrook Art Museum\, 39221 Woodward Ave\, Box 801\, Bloomfield H
 ills\, MI\, 48303\, United States
GEO:42.5727665;-83.25051710000002
X-APPLE-STRUCTURED-LOCATION;VALUE=URI;X-ADDRESS=39221 Woodward Ave\, Box 80
 1\, Bloomfield Hills\, MI\, 48303\, United States;X-APPLE-RADIUS=100;X-TIT
 LE=Cranbrook Art Museum:geo:42.5727665,-83.25051710000002
END:VEVENT
BEGIN:VTIMEZONE
TZID:America/Detroit
X-LIC-LOCATION:America/Detroit
BEGIN:DAYLIGHT
DTSTART:20220313T030000
TZOFFSETFROM:-0500
TZOFFSETTO:-0400
TZNAME:EDT
END:DAYLIGHT
END:VTIMEZONE
END:VCALENDAR