BEGIN:VCALENDAR
VERSION:2.0
PRODID:-//wp-events-plugin.com//7.2.3.1//EN
TZID:America/Detroit
X-WR-TIMEZONE:America/Detroit
BEGIN:VEVENT
UID:10044@cranbrookartmuseum.org
DTSTART:20190124T180000Z
DTEND:20190124T193000Z
DTSTAMP:20190109T182401Z
URL:https://cranbrookartmuseum.org/events/kenneth-tam/
SUMMARY:Kenneth Tam
DESCRIPTION:Kenneth Tam (b. 1982) is a New York-based artist born in Queens
 \, NY. He is interested in locating vulnerabilities within ideas about nor
 mative masculinity and tries to vigorously apply pressure to those areas. 
 He has held solo exhibitions at MIT List Center for Visual Arts\, Boston (
 2017)\; Commonwealth and Council\, LA (2016)\; Night Gallery\, LA (2013). 
 Tam has been featured in group exhibitions at Hollybush Gardens\, London\,
  UK (2017)\; Made in LA\, The Hammer Biennial\, LA (2016). Tam is a recipi
 ent of Foundation for Contemporary Arts Emergency Grant (2016)\; The CORE 
 Residency Program\, The Museum of Fine Arts\, Houston\, TX (2015–2017)\;
  California Community Foundation Fellowship (2015)\; and Art Matters Found
 ation Grant (2013).\n\nTam holds a BFA from The Cooper Union and an MFA fr
 om the University of Southern California.\n\nThis lecture is free.
ATTACH;FMTTYPE=image/jpeg:https://cranbrookartmuseum.org/wp-content/upload
 s/2019/01/Kenneth-Tam-hs-1.jpg
CATEGORIES:Events,Lectures + Talks
LOCATION:Cranbrook Art Museum\, 39221 Woodward Ave\, Box 801\, Bloomfield H
 ills\, MI\, 48303\, United States
GEO:42.5727665;-83.25051710000002
X-APPLE-STRUCTURED-LOCATION;VALUE=URI;X-ADDRESS=39221 Woodward Ave\, Box 80
 1\, Bloomfield Hills\, MI\, 48303\, United States;X-APPLE-RADIUS=100;X-TIT
 LE=Cranbrook Art Museum:geo:42.5727665,-83.25051710000002
END:VEVENT
END:VCALENDAR