BEGIN:VCALENDAR
VERSION:2.0
PRODID:-//wp-events-plugin.com//7.2.3.1//EN
TZID:America/Detroit
X-WR-TIMEZONE:America/Detroit
BEGIN:VEVENT
UID:10015@cranbrookartmuseum.org
DTSTART:20181128T180000Z
DTEND:20181128T193000Z
DTSTAMP:20181025T142702Z
URL:https://cranbrookartmuseum.org/events/kori-newkirk/
SUMMARY:Kori Newkirk
DESCRIPTION:In sculpture\, photography\, video\, and mixed media\, Kori New
 kirk transforms everyday images and objects—often drawn from African-Ame
 rican and pop culture—to explore issues of race\, gender\, and place\, i
 n what the artist calls “ghetto-fabulous conceptualism”.\nThis lecture
  is sponsored by the Sculpture department.\nThis lecture is FREE.
ATTACH;FMTTYPE=image/jpeg:https://cranbrookartmuseum.org/wp-content/upload
 s/2018/10/Kori-Newkirk-Republic-2016.jpg
CATEGORIES:Lectures + Talks
LOCATION:Cranbrook Art Museum deSalle Auditorium\, 39221 Woodward Ave.\, Bl
 oomfield Hills\, MI\, 48304\, United States
X-APPLE-STRUCTURED-LOCATION;VALUE=URI;X-ADDRESS=39221 Woodward Ave.\, Bloom
 field Hills\, MI\, 48304\, United States;X-APPLE-RADIUS=100;X-TITLE=Cranbr
 ook Art Museum deSalle Auditorium:geo:0,0
END:VEVENT
END:VCALENDAR