BEGIN:VCALENDAR
VERSION:2.0
PRODID:-//wp-events-plugin.com//7.2.3.1//EN
TZID:America/Detroit
X-WR-TIMEZONE:America/Detroit
BEGIN:VEVENT
UID:9924@cranbrookartmuseum.org
DTSTART:20180324T160000Z
DTEND:20180324T170000Z
DTSTAMP:20180227T201711Z
URL:https://cranbrookartmuseum.org/events/melenko-mokgosi/
SUMMARY:Meleko Mokgosi
DESCRIPTION:\n\nMeleko Mokgosi (born in Francistown\, Botswana) is an artis
 t who works within an interdisciplinary framework to create large-scale pr
 oject-based installations. Mokgosi works across history through painting\,
  cinematic tropes\, psychoanalysis\, and post-colonial theory. His studio 
 program interrogates narrative tropes and the fundamental models for the i
 nscription and transmission of history along side established European not
 ions of representation in order to address questions of nationhood\, anti-
 colonial sentiments\, and the perception of historicized events.\n\nHosted
  by the Painting Department
ATTACH;FMTTYPE=image/jpeg:https://cranbrookartmuseum.org/wp-content/upload
 s/2018/01/Melenko_portrait.png
CATEGORIES:Lectures + Talks
LOCATION:Cranbrook Art Museum deSalle Auditorium\, 39221 Woodward Ave.\, Bl
 oomfield Hills\, MI\, 48304\, United States
X-APPLE-STRUCTURED-LOCATION;VALUE=URI;X-ADDRESS=39221 Woodward Ave.\, Bloom
 field Hills\, MI\, 48304\, United States;X-APPLE-RADIUS=100;X-TITLE=Cranbr
 ook Art Museum deSalle Auditorium:geo:0,0
END:VEVENT
END:VCALENDAR