BEGIN:VCALENDAR
VERSION:2.0
PRODID:-//wp-events-plugin.com//7.2.3.1//EN
TZID:America/Detroit
X-WR-TIMEZONE:America/Detroit
BEGIN:VEVENT
UID:11159@cranbrookartmuseum.org
DTSTART;TZID=America/Detroit:20240511T100000
DTEND;TZID=America/Detroit:20240511T170000
DTSTAMP:20240415T204321Z
URL:https://cranbrookartmuseum.org/events/national-mini-golf-day/
SUMMARY:National Mini-Golf Day: Mom Plays for Free!
DESCRIPTION:It's par-tee time for the whole family! Join us to celebrate Na
 tional Miniature Golf Day! \n\nEvery year the second Saturday in May is Na
 tional Miniature Golf Day\, and this year it falls on the same weekend as 
 Mother’s Day. In honor of both holidays\, we’re offering free admissio
 n to one special adult in your life on Saturday\, May 11 and on Sunday May
  12. \n\nTo receive the complimentary ticket\, please purchase all ticket
 s for your group on-site. The last tickets will be sold 45 minutes before 
 closing. \n\nAdmission to the Art Museum is free with mini-golf admission!
  Enjoy making in the Artlab\, visit the Graduate Degree Exhibition or enjo
 y a snack and a latte at our FIKA Café! \n\nLEARN MORE ABOUT CRANBROOK O
 N THE GREEN HOURS AND POLICIES HERE
ATTACH;FMTTYPE=image/jpeg:https://cranbrookartmuseum.org/wp-content/upload
 s/2024/04/W9A9628-scaled-e1713213790817.jpg
CATEGORIES:Events,Family
LOCATION:Cranbrook Art Museum\, 39221 Woodward Ave\, Box 801\, Bloomfield H
 ills\, MI\, 48303\, United States
GEO:42.5727665;-83.25051710000002
X-APPLE-STRUCTURED-LOCATION;VALUE=URI;X-ADDRESS=39221 Woodward Ave\, Box 80
 1\, Bloomfield Hills\, MI\, 48303\, United States;X-APPLE-RADIUS=100;X-TIT
 LE=Cranbrook Art Museum:geo:42.5727665,-83.25051710000002
END:VEVENT
BEGIN:VTIMEZONE
TZID:America/Detroit
X-LIC-LOCATION:America/Detroit
BEGIN:DAYLIGHT
DTSTART:20240310T030000
TZOFFSETFROM:-0500
TZOFFSETTO:-0400
TZNAME:EDT
END:DAYLIGHT
END:VTIMEZONE
END:VCALENDAR